BEGIN:VCALENDAR
VERSION:2.0
PRODID:-//HealthTeam Advantage - ECPv6.15.20//NONSGML v1.0//EN
CALSCALE:GREGORIAN
METHOD:PUBLISH
X-ORIGINAL-URL:https://dev.healthteamadvantage.com
X-WR-CALDESC:Events for HealthTeam Advantage
REFRESH-INTERVAL;VALUE=DURATION:PT1H
X-Robots-Tag:noindex
X-PUBLISHED-TTL:PT1H
BEGIN:VTIMEZONE
TZID:America/New_York
BEGIN:DAYLIGHT
TZOFFSETFROM:-0500
TZOFFSETTO:-0400
TZNAME:EDT
DTSTART:20210314T070000
END:DAYLIGHT
BEGIN:STANDARD
TZOFFSETFROM:-0400
TZOFFSETTO:-0500
TZNAME:EST
DTSTART:20211107T060000
END:STANDARD
BEGIN:DAYLIGHT
TZOFFSETFROM:-0500
TZOFFSETTO:-0400
TZNAME:EDT
DTSTART:20220313T070000
END:DAYLIGHT
BEGIN:STANDARD
TZOFFSETFROM:-0400
TZOFFSETTO:-0500
TZNAME:EST
DTSTART:20221106T060000
END:STANDARD
BEGIN:DAYLIGHT
TZOFFSETFROM:-0500
TZOFFSETTO:-0400
TZNAME:EDT
DTSTART:20230312T070000
END:DAYLIGHT
BEGIN:STANDARD
TZOFFSETFROM:-0400
TZOFFSETTO:-0500
TZNAME:EST
DTSTART:20231105T060000
END:STANDARD
END:VTIMEZONE
BEGIN:VEVENT
DTSTART;TZID=America/New_York:20220512T140000
DTEND;TZID=America/New_York:20220512T140000
DTSTAMP:20260421T075852
CREATED:20220510T200115Z
LAST-MODIFIED:20220510T200115Z
UID:10000845-1652364000-1652364000@dev.healthteamadvantage.com
SUMMARY:A Living Plus Moment with Rocky & Joann
DESCRIPTION:May 12th\, 2 pm on HealthTeam Advantage YouTube channel \nEasy Turkey Tacos Cooking Demo (Chef Rocky and Dietician Joann) video on anti-inflammatory foods to reduce inflammation/arthritis. \n  \n 
URL:https://dev.healthteamadvantage.com/event/a-living-plus-moment-with-rocky-joann/
LOCATION:Virtual Event
ORGANIZER;CN="HealthTeam Advantage":MAILTO:HTAlivingplus@healthteamadvantage.com
END:VEVENT
BEGIN:VEVENT
DTSTART;TZID=America/New_York:20220512T180000
DTEND;TZID=America/New_York:20220512T190000
DTSTAMP:20260421T075852
CREATED:20220510T201201Z
LAST-MODIFIED:20220510T201201Z
UID:10000821-1652378400-1652382000@dev.healthteamadvantage.com
SUMMARY:Overcoming Caregiver Isolation & Loneliness (Virtual)
DESCRIPTION:Dementia Care for Caregivers series. \nRSVP to Crystal: 336-932-0406
URL:https://dev.healthteamadvantage.com/event/overcoming-caregiver-isolation-loneliness-virtual/
LOCATION:Virtual Event
END:VEVENT
BEGIN:VEVENT
DTSTART;TZID=America/New_York:20220513T130000
DTEND;TZID=America/New_York:20220513T150000
DTSTAMP:20260421T075852
CREATED:20220510T201628Z
LAST-MODIFIED:20220510T201628Z
UID:10000582-1652446800-1652454000@dev.healthteamadvantage.com
SUMMARY:Alamance/Burlington Celebration Bash for Senior Games
DESCRIPTION:827 S Graham Hopedale Rd. Burlington\, NC 27217 \nSnacks\, music\, and more!
URL:https://dev.healthteamadvantage.com/event/alamance-burlington-celebration-bash-for-senior-games/
END:VEVENT
BEGIN:VEVENT
DTSTART;TZID=America/New_York:20220513T180000
DTEND;TZID=America/New_York:20220513T220000
DTSTAMP:20260421T075852
CREATED:20220510T201503Z
LAST-MODIFIED:20220510T201503Z
UID:10000819-1652464800-1652479200@dev.healthteamadvantage.com
SUMMARY:Summerfield Founders’ Day Festival
DESCRIPTION:7300-7400 Summerfield Rd\, Summerfield\, NC 27358 \nSummerfield Founders’ Day Festival w/vendors\, music\, parade.
URL:https://dev.healthteamadvantage.com/event/summerfield-founders-day-festival/2022-05-13/
END:VEVENT
BEGIN:VEVENT
DTSTART;TZID=America/New_York:20220514T100000
DTEND;TZID=America/New_York:20220514T160000
DTSTAMP:20260421T075852
CREATED:20220510T201503Z
LAST-MODIFIED:20220510T201503Z
UID:10000820-1652522400-1652544000@dev.healthteamadvantage.com
SUMMARY:Summerfield Founders’ Day Festival
DESCRIPTION:7300-7400 Summerfield Rd\, Summerfield\, NC 27358 \nSummerfield Founders’ Day Festival w/vendors\, music\, parade.
URL:https://dev.healthteamadvantage.com/event/summerfield-founders-day-festival/2022-05-14/
END:VEVENT
BEGIN:VEVENT
DTSTART;TZID=America/New_York:20220514T150000
DTEND;TZID=America/New_York:20220514T180000
DTSTAMP:20260421T075852
CREATED:20220510T202438Z
LAST-MODIFIED:20220510T202438Z
UID:10000594-1652540400-1652551200@dev.healthteamadvantage.com
SUMMARY:Celebrate Us!
DESCRIPTION:435-M Dolley Madison Rd\, Greensboro \nMay 14th\, 3-6 pm \nFun\, games\, and snacks with LGBTQ+ Older Adults Social Group. \nVisit form.jotform.com/220896630669165 to RSVP.
URL:https://dev.healthteamadvantage.com/event/celebrate-us/
END:VEVENT
BEGIN:VEVENT
DTSTART;TZID=America/New_York:20220517T133000
DTEND;TZID=America/New_York:20220517T153000
DTSTAMP:20260421T075852
CREATED:20220510T201039Z
LAST-MODIFIED:20220510T201039Z
UID:10000822-1652794200-1652801400@dev.healthteamadvantage.com
SUMMARY:A Moment in Time Memory Café
DESCRIPTION:Jamestown United Methodist Church 403 E Main St\, Jamestown\, NC 27282 \nEvery third Tuesday from 1:30-3:30 pm \nA group for people with dementia and their caregivers to come relax\, play games\, sing\, enjoy snacks\, and chat in a friendly atmosphere. To register or for more info: contact lauragulledge@gmail.com or 336-906-0430.
URL:https://dev.healthteamadvantage.com/event/a-moment-in-time-memory-cafe/2022-05-17/
END:VEVENT
BEGIN:VEVENT
DTSTART;TZID=America/New_York:20220517T173000
DTEND;TZID=America/New_York:20220517T190000
DTSTAMP:20260421T075852
CREATED:20220510T203016Z
LAST-MODIFIED:20220510T203016Z
UID:10000905-1652808600-1652814000@dev.healthteamadvantage.com
SUMMARY:Nature Rx
DESCRIPTION:Women’s Resource Center of Greensboro. \nLearn the health benefits of being in nature. \nCall to sign up: 336-275-6090
URL:https://dev.healthteamadvantage.com/event/nature-rx/
END:VEVENT
BEGIN:VEVENT
DTSTART;TZID=America/New_York:20220518T100000
DTEND;TZID=America/New_York:20220518T120000
DTSTAMP:20260421T075852
CREATED:20220510T201958Z
LAST-MODIFIED:20220510T203147Z
UID:10000584-1652868000-1652875200@dev.healthteamadvantage.com
SUMMARY:Gourd Bird Feeders
DESCRIPTION:2400 Summit Ave. Greensboro\, NC 27405 \nLearn how to create a gourd bird feeder with the Creative Aging Network\, $25 fee includes all supplies. \nVisit can-nc.org/classes to register.
URL:https://dev.healthteamadvantage.com/event/gourd-bird-feeders/
END:VEVENT
BEGIN:VEVENT
DTSTART;TZID=America/New_York:20220518T103000
DTEND;TZID=America/New_York:20220518T123000
DTSTAMP:20260421T075852
CREATED:20220510T201821Z
LAST-MODIFIED:20220510T201821Z
UID:10000583-1652869800-1652877000@dev.healthteamadvantage.com
SUMMARY:Music\, the Mind\, and Memory
DESCRIPTION:921 Eastchester Dr\, Suite 1230\, High Point\, NC \nHealthy Living for Your Brain and Body series. \nCall to register: 336-883-3584
URL:https://dev.healthteamadvantage.com/event/music-the-mind-and-memory/
END:VEVENT
BEGIN:VEVENT
DTSTART;TZID=America/New_York:20220519T090000
DTEND;TZID=America/New_York:20220519T090000
DTSTAMP:20260421T075852
CREATED:20220510T202118Z
LAST-MODIFIED:20220510T202118Z
UID:10000585-1652950800-1652950800@dev.healthteamadvantage.com
SUMMARY:Greensboro Elks Lodge Monthly Senior Breakfast
DESCRIPTION:2201 W Cornwallis Dr\, Greensboro\, NC 27408 \nCall for info: 336-288- 5100
URL:https://dev.healthteamadvantage.com/event/greensboro-elks-lodge-monthly-senior-breakfast/
END:VEVENT
BEGIN:VEVENT
DTSTART;TZID=America/New_York:20220519T110000
DTEND;TZID=America/New_York:20220519T110000
DTSTAMP:20260421T075852
CREATED:20220510T200536Z
LAST-MODIFIED:20220510T200756Z
UID:10000836-1652958000-1652958000@dev.healthteamadvantage.com
SUMMARY:Therapy Thursdays with Caregiver Connect
DESCRIPTION:Every third Thursday at 11 am. \nStreamed via Facebook Live on the Caregiver Connect Facebook page. A 15-minute hands-on presentation led by recreational therapist Shelby Kline\, on things you can do to stay engaged and stimulated. For more info email williamsa@caregiverconnect.online or call 336-327-9219.
URL:https://dev.healthteamadvantage.com/event/therapy-thursdays/2022-05-19/
LOCATION:Virtual Event
END:VEVENT
BEGIN:VEVENT
DTSTART;TZID=America/New_York:20220519T130000
DTEND;TZID=America/New_York:20220519T130000
DTSTAMP:20260421T075852
CREATED:20220510T202910Z
LAST-MODIFIED:20220510T202910Z
UID:10000598-1652965200-1652965200@dev.healthteamadvantage.com
SUMMARY:BINGO – RCARE
DESCRIPTION:Reidsville Senior Citizen Center\, 201 N. Washington Ave\, Reidsville. \nCall for info: 336-349-1088
URL:https://dev.healthteamadvantage.com/event/bingo-rcare/
END:VEVENT
BEGIN:VEVENT
DTSTART;TZID=America/New_York:20220519T190000
DTEND;TZID=America/New_York:20220519T190000
DTSTAMP:20260421T075852
CREATED:20220510T202300Z
LAST-MODIFIED:20220510T202300Z
UID:10000586-1652986800-1652986800@dev.healthteamadvantage.com
SUMMARY:ACAP of Guilford County (Adult Children of Aging Parents)
DESCRIPTION:This monthly education program provides adult children with useful info to help them care for aging parents. Held on the third Thursday of every month at 7 pm. \nFor more info & to register\, call 336-517-7413 or visit acapguilfordcounty.org.
URL:https://dev.healthteamadvantage.com/event/acap-of-guilford-county-adult-children-of-aging-parents/2022-05-19/
END:VEVENT
BEGIN:VEVENT
DTSTART;TZID=America/New_York:20220520T170000
DTEND;TZID=America/New_York:20220520T220000
DTSTAMP:20260421T075852
CREATED:20220510T202658Z
LAST-MODIFIED:20220510T202658Z
UID:10000596-1653066000-1653084000@dev.healthteamadvantage.com
SUMMARY:Market and Music at Commerce Square
DESCRIPTION:128 Commerce Square\, Randleman \nFeaturing music by CAT5!
URL:https://dev.healthteamadvantage.com/event/market-and-music-at-commerce-square/
END:VEVENT
BEGIN:VEVENT
DTSTART;TZID=America/New_York:20220521T100000
DTEND;TZID=America/New_York:20220521T150000
DTSTAMP:20260421T075852
CREATED:20220510T202549Z
LAST-MODIFIED:20220510T202549Z
UID:10000595-1653127200-1653145200@dev.healthteamadvantage.com
SUMMARY:Spring Craft Festival
DESCRIPTION:801 Meadowood St\, Greensboro. \nMay 21st\, 10 am-3 pm \nLocal art vendors and performances. \nEmail Nicki for details: PurpleWagonEvents@gmail.com
URL:https://dev.healthteamadvantage.com/event/spring-craft-festival/
END:VEVENT
BEGIN:VEVENT
DTSTART;TZID=America/New_York:20220526T103000
DTEND;TZID=America/New_York:20220526T123000
DTSTAMP:20260421T075852
CREATED:20220510T202812Z
LAST-MODIFIED:20220510T202812Z
UID:10000597-1653561000-1653568200@dev.healthteamadvantage.com
SUMMARY:Grandparents Raising Grandchildren
DESCRIPTION:Senior Resources of Guilford\, 1401 Benjamin Pkwy\, Greensboro. \nLunch and Learn.
URL:https://dev.healthteamadvantage.com/event/grandparents-raising-grandchildren/
END:VEVENT
BEGIN:VEVENT
DTSTART;TZID=America/New_York:20220526T140000
DTEND;TZID=America/New_York:20220526T140000
DTSTAMP:20260421T075852
CREATED:20220510T200244Z
LAST-MODIFIED:20220510T200244Z
UID:10000844-1653573600-1653573600@dev.healthteamadvantage.com
SUMMARY:Get Active with Arthritis
DESCRIPTION:May 26th\, 2 pm on HealthTeam Advantage YouTube channel \nIn this video\, led by wellness coordinator Savanna Altizer\, learn about the two most prevalent forms of arthritis\, osteoarthritis and rheumatoid arthritis. Discover how physical activity such as low-impact movements and increasing range of motion in the joints can lessen symptoms.
URL:https://dev.healthteamadvantage.com/event/get-active-with-arthritis/
LOCATION:Virtual Event
ORGANIZER;CN="HealthTeam Advantage":MAILTO:HTAlivingplus@healthteamadvantage.com
END:VEVENT
END:VCALENDAR