BEGIN:VCALENDAR
VERSION:2.0
PRODID:-//HealthTeam Advantage - ECPv6.15.20//NONSGML v1.0//EN
CALSCALE:GREGORIAN
METHOD:PUBLISH
X-ORIGINAL-URL:https://dev.healthteamadvantage.com
X-WR-CALDESC:Events for HealthTeam Advantage
REFRESH-INTERVAL;VALUE=DURATION:PT1H
X-Robots-Tag:noindex
X-PUBLISHED-TTL:PT1H
BEGIN:VTIMEZONE
TZID:America/New_York
BEGIN:DAYLIGHT
TZOFFSETFROM:-0500
TZOFFSETTO:-0400
TZNAME:EDT
DTSTART:20210314T070000
END:DAYLIGHT
BEGIN:STANDARD
TZOFFSETFROM:-0400
TZOFFSETTO:-0500
TZNAME:EST
DTSTART:20211107T060000
END:STANDARD
BEGIN:DAYLIGHT
TZOFFSETFROM:-0500
TZOFFSETTO:-0400
TZNAME:EDT
DTSTART:20220313T070000
END:DAYLIGHT
BEGIN:STANDARD
TZOFFSETFROM:-0400
TZOFFSETTO:-0500
TZNAME:EST
DTSTART:20221106T060000
END:STANDARD
BEGIN:DAYLIGHT
TZOFFSETFROM:-0500
TZOFFSETTO:-0400
TZNAME:EDT
DTSTART:20230312T070000
END:DAYLIGHT
BEGIN:STANDARD
TZOFFSETFROM:-0400
TZOFFSETTO:-0500
TZNAME:EST
DTSTART:20231105T060000
END:STANDARD
END:VTIMEZONE
BEGIN:VEVENT
DTSTART;TZID=America/New_York:20220401T090000
DTEND;TZID=America/New_York:20220401T093000
DTSTAMP:20260421T092058
CREATED:20220328T125116Z
LAST-MODIFIED:20220328T130712Z
UID:10000873-1648803600-1648805400@dev.healthteamadvantage.com
SUMMARY:SilverSneakers Boom - Muscle
DESCRIPTION:With Rhena at 102 N Washington Ave\, Reidsville\, NC 27320
URL:https://dev.healthteamadvantage.com/event/boom-muscle/2022-04-01/
END:VEVENT
BEGIN:VEVENT
DTSTART;TZID=America/New_York:20220401T113000
DTEND;TZID=America/New_York:20220401T120000
DTSTAMP:20260421T092058
CREATED:20220328T124105Z
LAST-MODIFIED:20220328T130914Z
UID:10000884-1648812600-1648814400@dev.healthteamadvantage.com
SUMMARY:SilverSneakers Classic
DESCRIPTION:With Katharina at 4810 Hope Valley Rd
URL:https://dev.healthteamadvantage.com/event/silversneakers-classic/2022-04-01/
END:VEVENT
BEGIN:VEVENT
DTSTART;TZID=America/New_York:20220402T080000
DTEND;TZID=America/New_York:20220402T083000
DTSTAMP:20260421T092058
CREATED:20220328T125345Z
LAST-MODIFIED:20220328T130138Z
UID:10000870-1648886400-1648888200@dev.healthteamadvantage.com
SUMMARY:SilverSneakers Cardio
DESCRIPTION:With Karen at 300 S 2nd Ave\, Mayodan\, NC 27027
URL:https://dev.healthteamadvantage.com/event/silversneakers-cardio/2022-04-02/
END:VEVENT
BEGIN:VEVENT
DTSTART;TZID=America/New_York:20220404T100000
DTEND;TZID=America/New_York:20220404T103000
DTSTAMP:20260421T092058
CREATED:20220328T124426Z
LAST-MODIFIED:20220328T125921Z
UID:10000881-1649066400-1649068200@dev.healthteamadvantage.com
SUMMARY:SilverSneakers Walking Outdoors
DESCRIPTION:With Rhena at 102 N Washington Ave\, Reidsville\, NC 27320
URL:https://dev.healthteamadvantage.com/event/silversneakers-walking-outdoors/2022-04-04/
END:VEVENT
BEGIN:VEVENT
DTSTART;TZID=America/New_York:20220404T113000
DTEND;TZID=America/New_York:20220404T120000
DTSTAMP:20260421T092058
CREATED:20220328T124105Z
LAST-MODIFIED:20220328T130914Z
UID:10000885-1649071800-1649073600@dev.healthteamadvantage.com
SUMMARY:SilverSneakers Classic
DESCRIPTION:With Katharina at 4810 Hope Valley Rd
URL:https://dev.healthteamadvantage.com/event/silversneakers-classic/2022-04-04/
END:VEVENT
BEGIN:VEVENT
DTSTART;TZID=America/New_York:20220405T090000
DTEND;TZID=America/New_York:20220405T093000
DTSTAMP:20260421T092058
CREATED:20220328T124811Z
LAST-MODIFIED:20220328T124811Z
UID:10000876-1649149200-1649151000@dev.healthteamadvantage.com
SUMMARY:SilverSneakers Yoga
DESCRIPTION:With Katharina at 4810 Hope Valley Rd
URL:https://dev.healthteamadvantage.com/event/silversneakers-yoga/2022-04-05/
LOCATION:Virtual Event
END:VEVENT
BEGIN:VEVENT
DTSTART;TZID=America/New_York:20220405T103000
DTEND;TZID=America/New_York:20220405T110000
DTSTAMP:20260421T092058
CREATED:20220328T125457Z
LAST-MODIFIED:20220328T125457Z
UID:10000818-1649154600-1649156400@dev.healthteamadvantage.com
SUMMARY:SilverSneakers Chair Aerobics
DESCRIPTION:With Karen at 300 S 2nd Ave\, Mayodan\, NC 27027
URL:https://dev.healthteamadvantage.com/event/silversneakers-chair-aerobics/
END:VEVENT
BEGIN:VEVENT
DTSTART;TZID=America/New_York:20220406T090000
DTEND;TZID=America/New_York:20220406T093000
DTSTAMP:20260421T092058
CREATED:20220328T125610Z
LAST-MODIFIED:20220328T125610Z
UID:10000865-1649235600-1649237400@dev.healthteamadvantage.com
SUMMARY:SilverSneakers Circuit/Interval Training
DESCRIPTION:With Jona at 300 S 2nd Ave\, Mayodan\, NC 27027
URL:https://dev.healthteamadvantage.com/event/silversneakers-circuit-interval-training/
END:VEVENT
BEGIN:VEVENT
DTSTART;TZID=America/New_York:20220406T113000
DTEND;TZID=America/New_York:20220406T120000
DTSTAMP:20260421T092058
CREATED:20220328T124105Z
LAST-MODIFIED:20220328T130914Z
UID:10000886-1649244600-1649246400@dev.healthteamadvantage.com
SUMMARY:SilverSneakers Classic
DESCRIPTION:With Katharina at 4810 Hope Valley Rd
URL:https://dev.healthteamadvantage.com/event/silversneakers-classic/2022-04-06/
END:VEVENT
BEGIN:VEVENT
DTSTART;TZID=America/New_York:20220407T090000
DTEND;TZID=America/New_York:20220407T093000
DTSTAMP:20260421T092058
CREATED:20220328T124811Z
LAST-MODIFIED:20220328T124811Z
UID:10000877-1649322000-1649323800@dev.healthteamadvantage.com
SUMMARY:SilverSneakers Yoga
DESCRIPTION:With Katharina at 4810 Hope Valley Rd
URL:https://dev.healthteamadvantage.com/event/silversneakers-yoga/2022-04-07/
LOCATION:Virtual Event
END:VEVENT
BEGIN:VEVENT
DTSTART;TZID=America/New_York:20220407T100000
DTEND;TZID=America/New_York:20220407T103000
DTSTAMP:20260421T092058
CREATED:20220328T125804Z
LAST-MODIFIED:20220328T131110Z
UID:10000863-1649325600-1649327400@dev.healthteamadvantage.com
SUMMARY:SilverSneakers Classic
DESCRIPTION:With Rhena at 102 N Washington Ave\, Reidsville\, NC 27320
URL:https://dev.healthteamadvantage.com/event/silversneakers-classic-2/2022-04-07/
LOCATION:Virtual Event
END:VEVENT
BEGIN:VEVENT
DTSTART;TZID=America/New_York:20220408T090000
DTEND;TZID=America/New_York:20220408T093000
DTSTAMP:20260421T092058
CREATED:20220328T125116Z
LAST-MODIFIED:20220328T130712Z
UID:10000874-1649408400-1649410200@dev.healthteamadvantage.com
SUMMARY:SilverSneakers Boom - Muscle
DESCRIPTION:With Rhena at 102 N Washington Ave\, Reidsville\, NC 27320
URL:https://dev.healthteamadvantage.com/event/boom-muscle/2022-04-08/
END:VEVENT
BEGIN:VEVENT
DTSTART;TZID=America/New_York:20220408T113000
DTEND;TZID=America/New_York:20220408T120000
DTSTAMP:20260421T092058
CREATED:20220328T124105Z
LAST-MODIFIED:20220328T130914Z
UID:10000887-1649417400-1649419200@dev.healthteamadvantage.com
SUMMARY:SilverSneakers Classic
DESCRIPTION:With Katharina at 4810 Hope Valley Rd
URL:https://dev.healthteamadvantage.com/event/silversneakers-classic/2022-04-08/
END:VEVENT
BEGIN:VEVENT
DTSTART;TZID=America/New_York:20220409T080000
DTEND;TZID=America/New_York:20220409T083000
DTSTAMP:20260421T092058
CREATED:20220328T125345Z
LAST-MODIFIED:20220328T130138Z
UID:10000871-1649491200-1649493000@dev.healthteamadvantage.com
SUMMARY:SilverSneakers Cardio
DESCRIPTION:With Karen at 300 S 2nd Ave\, Mayodan\, NC 27027
URL:https://dev.healthteamadvantage.com/event/silversneakers-cardio/2022-04-09/
END:VEVENT
BEGIN:VEVENT
DTSTART;TZID=America/New_York:20220411T100000
DTEND;TZID=America/New_York:20220411T103000
DTSTAMP:20260421T092058
CREATED:20220328T124426Z
LAST-MODIFIED:20220328T125921Z
UID:10000882-1649671200-1649673000@dev.healthteamadvantage.com
SUMMARY:SilverSneakers Walking Outdoors
DESCRIPTION:With Rhena at 102 N Washington Ave\, Reidsville\, NC 27320
URL:https://dev.healthteamadvantage.com/event/silversneakers-walking-outdoors/2022-04-11/
END:VEVENT
BEGIN:VEVENT
DTSTART;TZID=America/New_York:20220411T113000
DTEND;TZID=America/New_York:20220411T120000
DTSTAMP:20260421T092058
CREATED:20220328T124105Z
LAST-MODIFIED:20220328T130914Z
UID:10000888-1649676600-1649678400@dev.healthteamadvantage.com
SUMMARY:SilverSneakers Classic
DESCRIPTION:With Katharina at 4810 Hope Valley Rd
URL:https://dev.healthteamadvantage.com/event/silversneakers-classic/2022-04-11/
END:VEVENT
BEGIN:VEVENT
DTSTART;TZID=America/New_York:20220412T090000
DTEND;TZID=America/New_York:20220412T093000
DTSTAMP:20260421T092058
CREATED:20220328T124811Z
LAST-MODIFIED:20220328T124811Z
UID:10000878-1649754000-1649755800@dev.healthteamadvantage.com
SUMMARY:SilverSneakers Yoga
DESCRIPTION:With Katharina at 4810 Hope Valley Rd
URL:https://dev.healthteamadvantage.com/event/silversneakers-yoga/2022-04-12/
LOCATION:Virtual Event
END:VEVENT
BEGIN:VEVENT
DTSTART;TZID=America/New_York:20220413T103000
DTEND;TZID=America/New_York:20220413T110000
DTSTAMP:20260421T092058
CREATED:20220328T131415Z
LAST-MODIFIED:20220328T131415Z
UID:10000846-1649845800-1649847600@dev.healthteamadvantage.com
SUMMARY:SilverSneakers Cardio and Strength
DESCRIPTION:With Jona at 300 S 2nd Ave\, Mayodan\, NC 27027
URL:https://dev.healthteamadvantage.com/event/silversneakers-cardio-and-strength-2/
END:VEVENT
BEGIN:VEVENT
DTSTART;TZID=America/New_York:20220413T113000
DTEND;TZID=America/New_York:20220413T120000
DTSTAMP:20260421T092058
CREATED:20220328T124105Z
LAST-MODIFIED:20220328T130914Z
UID:10000889-1649849400-1649851200@dev.healthteamadvantage.com
SUMMARY:SilverSneakers Classic
DESCRIPTION:With Katharina at 4810 Hope Valley Rd
URL:https://dev.healthteamadvantage.com/event/silversneakers-classic/2022-04-13/
END:VEVENT
BEGIN:VEVENT
DTSTART;TZID=America/New_York:20220414T090000
DTEND;TZID=America/New_York:20220414T093000
DTSTAMP:20260421T092058
CREATED:20220328T124811Z
LAST-MODIFIED:20220328T124811Z
UID:10000879-1649926800-1649928600@dev.healthteamadvantage.com
SUMMARY:SilverSneakers Yoga
DESCRIPTION:With Katharina at 4810 Hope Valley Rd
URL:https://dev.healthteamadvantage.com/event/silversneakers-yoga/2022-04-14/
LOCATION:Virtual Event
END:VEVENT
BEGIN:VEVENT
DTSTART;TZID=America/New_York:20220414T100000
DTEND;TZID=America/New_York:20220414T103000
DTSTAMP:20260421T092058
CREATED:20220328T125804Z
LAST-MODIFIED:20220328T131110Z
UID:10000864-1649930400-1649932200@dev.healthteamadvantage.com
SUMMARY:SilverSneakers Classic
DESCRIPTION:With Rhena at 102 N Washington Ave\, Reidsville\, NC 27320
URL:https://dev.healthteamadvantage.com/event/silversneakers-classic-2/2022-04-14/
LOCATION:Virtual Event
END:VEVENT
BEGIN:VEVENT
DTSTART;TZID=America/New_York:20220415T090000
DTEND;TZID=America/New_York:20220415T093000
DTSTAMP:20260421T092058
CREATED:20220328T125116Z
LAST-MODIFIED:20220328T130712Z
UID:10000875-1650013200-1650015000@dev.healthteamadvantage.com
SUMMARY:SilverSneakers Boom - Muscle
DESCRIPTION:With Rhena at 102 N Washington Ave\, Reidsville\, NC 27320
URL:https://dev.healthteamadvantage.com/event/boom-muscle/2022-04-15/
END:VEVENT
BEGIN:VEVENT
DTSTART;TZID=America/New_York:20220415T113000
DTEND;TZID=America/New_York:20220415T120000
DTSTAMP:20260421T092058
CREATED:20220328T124105Z
LAST-MODIFIED:20220328T130914Z
UID:10000890-1650022200-1650024000@dev.healthteamadvantage.com
SUMMARY:SilverSneakers Classic
DESCRIPTION:With Katharina at 4810 Hope Valley Rd
URL:https://dev.healthteamadvantage.com/event/silversneakers-classic/2022-04-15/
END:VEVENT
BEGIN:VEVENT
DTSTART;TZID=America/New_York:20220416T080000
DTEND;TZID=America/New_York:20220416T083000
DTSTAMP:20260421T092058
CREATED:20220328T125345Z
LAST-MODIFIED:20220328T130138Z
UID:10000872-1650096000-1650097800@dev.healthteamadvantage.com
SUMMARY:SilverSneakers Cardio
DESCRIPTION:With Karen at 300 S 2nd Ave\, Mayodan\, NC 27027
URL:https://dev.healthteamadvantage.com/event/silversneakers-cardio/2022-04-16/
END:VEVENT
BEGIN:VEVENT
DTSTART;TZID=America/New_York:20220418T100000
DTEND;TZID=America/New_York:20220418T103000
DTSTAMP:20260421T092058
CREATED:20220328T124426Z
LAST-MODIFIED:20220328T125921Z
UID:10000883-1650276000-1650277800@dev.healthteamadvantage.com
SUMMARY:SilverSneakers Walking Outdoors
DESCRIPTION:With Rhena at 102 N Washington Ave\, Reidsville\, NC 27320
URL:https://dev.healthteamadvantage.com/event/silversneakers-walking-outdoors/2022-04-18/
END:VEVENT
BEGIN:VEVENT
DTSTART;TZID=America/New_York:20220418T113000
DTEND;TZID=America/New_York:20220418T120000
DTSTAMP:20260421T092058
CREATED:20220328T124105Z
LAST-MODIFIED:20220328T130914Z
UID:10000891-1650281400-1650283200@dev.healthteamadvantage.com
SUMMARY:SilverSneakers Classic
DESCRIPTION:With Katharina at 4810 Hope Valley Rd
URL:https://dev.healthteamadvantage.com/event/silversneakers-classic/2022-04-18/
END:VEVENT
BEGIN:VEVENT
DTSTART;TZID=America/New_York:20220419T090000
DTEND;TZID=America/New_York:20220419T093000
DTSTAMP:20260421T092058
CREATED:20220328T124811Z
LAST-MODIFIED:20220328T124811Z
UID:10000880-1650358800-1650360600@dev.healthteamadvantage.com
SUMMARY:SilverSneakers Yoga
DESCRIPTION:With Katharina at 4810 Hope Valley Rd
URL:https://dev.healthteamadvantage.com/event/silversneakers-yoga/2022-04-19/
LOCATION:Virtual Event
END:VEVENT
BEGIN:VEVENT
DTSTART;TZID=America/New_York:20220419T100000
DTEND;TZID=America/New_York:20220419T103000
DTSTAMP:20260421T092058
CREATED:20220328T130539Z
LAST-MODIFIED:20220328T130539Z
UID:10000862-1650362400-1650364200@dev.healthteamadvantage.com
SUMMARY:SilverSneakers EnerChi
DESCRIPTION:With Rhena at 102 N Washington Ave\, Reidsville\, NC 27320
URL:https://dev.healthteamadvantage.com/event/silversneakers-enerchi/
END:VEVENT
BEGIN:VEVENT
DTSTART;TZID=America/New_York:20220420T103000
DTEND;TZID=America/New_York:20220420T110000
DTSTAMP:20260421T092058
CREATED:20220328T130829Z
LAST-MODIFIED:20220328T130829Z
UID:10000861-1650450600-1650452400@dev.healthteamadvantage.com
SUMMARY:SilverSneakers Cardio and Strength
DESCRIPTION:With Jona at 300 S 2nd Ave\, Mayodan\, NC 27027
URL:https://dev.healthteamadvantage.com/event/silversneakers-cardio-and-strength/
END:VEVENT
BEGIN:VEVENT
DTSTART;TZID=America/New_York:20220420T113000
DTEND;TZID=America/New_York:20220420T120000
DTSTAMP:20260421T092058
CREATED:20220328T124105Z
LAST-MODIFIED:20220328T130914Z
UID:10000892-1650454200-1650456000@dev.healthteamadvantage.com
SUMMARY:SilverSneakers Classic
DESCRIPTION:With Katharina at 4810 Hope Valley Rd
URL:https://dev.healthteamadvantage.com/event/silversneakers-classic/2022-04-20/
END:VEVENT
END:VCALENDAR