BEGIN:VCALENDAR
VERSION:2.0
PRODID:-//HealthTeam Advantage - ECPv6.15.20//NONSGML v1.0//EN
CALSCALE:GREGORIAN
METHOD:PUBLISH
X-ORIGINAL-URL:https://dev.healthteamadvantage.com
X-WR-CALDESC:Events for HealthTeam Advantage
REFRESH-INTERVAL;VALUE=DURATION:PT1H
X-Robots-Tag:noindex
X-PUBLISHED-TTL:PT1H
BEGIN:VTIMEZONE
TZID:America/New_York
BEGIN:DAYLIGHT
TZOFFSETFROM:-0500
TZOFFSETTO:-0400
TZNAME:EDT
DTSTART:20210314T070000
END:DAYLIGHT
BEGIN:STANDARD
TZOFFSETFROM:-0400
TZOFFSETTO:-0500
TZNAME:EST
DTSTART:20211107T060000
END:STANDARD
BEGIN:DAYLIGHT
TZOFFSETFROM:-0500
TZOFFSETTO:-0400
TZNAME:EDT
DTSTART:20220313T070000
END:DAYLIGHT
BEGIN:STANDARD
TZOFFSETFROM:-0400
TZOFFSETTO:-0500
TZNAME:EST
DTSTART:20221106T060000
END:STANDARD
BEGIN:DAYLIGHT
TZOFFSETFROM:-0500
TZOFFSETTO:-0400
TZNAME:EDT
DTSTART:20230312T070000
END:DAYLIGHT
BEGIN:STANDARD
TZOFFSETFROM:-0400
TZOFFSETTO:-0500
TZNAME:EST
DTSTART:20231105T060000
END:STANDARD
END:VTIMEZONE
BEGIN:VEVENT
DTSTART;TZID=America/New_York:20220301T090000
DTEND;TZID=America/New_York:20220301T093000
DTSTAMP:20260421T105723
CREATED:20220203T173049Z
LAST-MODIFIED:20220225T152828Z
UID:10000668-1646125200-1646127000@dev.healthteamadvantage.com
SUMMARY:Virtual Senior Fitness Class with Joni
DESCRIPTION:A mixture of chair aerobics\, strength\, and flexibility. A great low-impact option for everyone! \nClick here to register on Zoom. \n 
URL:https://dev.healthteamadvantage.com/event/virtual-senior-fitness-class-with-joni/2022-03-01/
LOCATION:Virtual Event
CATEGORIES:Senior Fitness Class
END:VEVENT
BEGIN:VEVENT
DTSTART;TZID=America/New_York:20220301T091500
DTEND;TZID=America/New_York:20220301T100000
DTSTAMP:20260421T105723
CREATED:20220203T172651Z
LAST-MODIFIED:20220225T152734Z
UID:10000707-1646126100-1646128800@dev.healthteamadvantage.com
SUMMARY:In-Person Senior Fitness Class with Brandy
DESCRIPTION:In-person Senior Fitness Class at WellZone at Alamance Regional Medical Center
URL:https://dev.healthteamadvantage.com/event/in-person-senior-fitness-class-with-brandy/2022-03-01/
ORGANIZER;CN="HealthTeam Advantage":MAILTO:HTAlivingplus@healthteamadvantage.com
END:VEVENT
BEGIN:VEVENT
DTSTART;TZID=America/New_York:20220301T201500
DTEND;TZID=America/New_York:20220301T203000
DTSTAMP:20260421T105723
CREATED:20220225T153135Z
LAST-MODIFIED:20220225T153410Z
UID:10000614-1646165700-1646166600@dev.healthteamadvantage.com
SUMMARY:Virtual Yoga Nidra with Mandy
DESCRIPTION:Tuesdays at 8:15 pm on Zoom. \nA guided meditation also known as “yogic sleep” or “effortless relaxation”. This class is usually practiced lying down in the dark with Mandy guiding the session. \nRegistration link: https://conehealth.zoom.us/meeting/register/tJAvcOCvqz4pH91bSj1CKiLweKO98NyW-3Sf
URL:https://dev.healthteamadvantage.com/event/virtual-yoga-nidra-with-mandy/2022-03-01/
LOCATION:Virtual Event
CATEGORIES:Senior Fitness Class
ORGANIZER;CN="HealthTeam Advantage":MAILTO:HTAlivingplus@healthteamadvantage.com
END:VEVENT
BEGIN:VEVENT
DTSTART;TZID=America/New_York:20220302T090000
DTEND;TZID=America/New_York:20220302T093000
DTSTAMP:20260421T105723
CREATED:20220203T173803Z
LAST-MODIFIED:20220225T152855Z
UID:10000649-1646211600-1646213400@dev.healthteamadvantage.com
SUMMARY:Virtual Silver Sneakers class with Gerald
DESCRIPTION:Click here to register for Zoom.
URL:https://dev.healthteamadvantage.com/event/virtual-silver-sneakers-class-with-gerald/2022-03-02/
LOCATION:Virtual Event
END:VEVENT
BEGIN:VEVENT
DTSTART;TZID=America/New_York:20220302T091500
DTEND;TZID=America/New_York:20220302T100000
DTSTAMP:20260421T105723
CREATED:20220203T172651Z
LAST-MODIFIED:20220225T152734Z
UID:10000708-1646212500-1646215200@dev.healthteamadvantage.com
SUMMARY:In-Person Senior Fitness Class with Brandy
DESCRIPTION:In-person Senior Fitness Class at WellZone at Alamance Regional Medical Center
URL:https://dev.healthteamadvantage.com/event/in-person-senior-fitness-class-with-brandy/2022-03-02/
ORGANIZER;CN="HealthTeam Advantage":MAILTO:HTAlivingplus@healthteamadvantage.com
END:VEVENT
BEGIN:VEVENT
DTSTART;TZID=America/New_York:20220303T091500
DTEND;TZID=America/New_York:20220303T100000
DTSTAMP:20260421T105723
CREATED:20220203T172651Z
LAST-MODIFIED:20220225T152734Z
UID:10000709-1646298900-1646301600@dev.healthteamadvantage.com
SUMMARY:In-Person Senior Fitness Class with Brandy
DESCRIPTION:In-person Senior Fitness Class at WellZone at Alamance Regional Medical Center
URL:https://dev.healthteamadvantage.com/event/in-person-senior-fitness-class-with-brandy/2022-03-03/
ORGANIZER;CN="HealthTeam Advantage":MAILTO:HTAlivingplus@healthteamadvantage.com
END:VEVENT
BEGIN:VEVENT
DTSTART;TZID=America/New_York:20220303T130000
DTEND;TZID=America/New_York:20220303T134500
DTSTAMP:20260421T105723
CREATED:20230627T170737Z
LAST-MODIFIED:20230627T170737Z
UID:10000730-1646312400-1646315100@dev.healthteamadvantage.com
SUMMARY:In-Person Senior Fitness Class with Brandy
DESCRIPTION:In-person Senior Fitness Class at WellZone at Alamance Regional Medical Center
URL:https://dev.healthteamadvantage.com/event/in-person-senior-fitness-class-with-brandy/2022-03-03/
ORGANIZER;CN="HealthTeam Advantage":MAILTO:HTAlivingplus@healthteamadvantage.com
END:VEVENT
BEGIN:VEVENT
DTSTART;TZID=America/New_York:20220303T180000
DTEND;TZID=America/New_York:20220303T190000
DTSTAMP:20260421T105723
CREATED:20220203T174012Z
LAST-MODIFIED:20220203T174012Z
UID:10000642-1646330400-1646334000@dev.healthteamadvantage.com
SUMMARY:Grow Your Best Vegetable Garden
DESCRIPTION:A few best practices can help you get the best results in a vegetable garden. \nRegistration link: https://www.eventbrite.com/e/grow-your-best-vegetable-garden-registration-224801225517 \n 
URL:https://dev.healthteamadvantage.com/event/grow-your-best-vegetable-garden/
LOCATION:Virtual Event
END:VEVENT
BEGIN:VEVENT
DTSTART;TZID=America/New_York:20220304T090000
DTEND;TZID=America/New_York:20220304T093000
DTSTAMP:20260421T105723
CREATED:20220203T173308Z
LAST-MODIFIED:20220225T152805Z
UID:10000659-1646384400-1646386200@dev.healthteamadvantage.com
SUMMARY:Virtual Senior Fitness with Brandy
DESCRIPTION:A mixture of chair aerobics\, strength\, and flexibility. A great low-impact option for everyone! \nClick here to register on Zoom. \n 
URL:https://dev.healthteamadvantage.com/event/virtual-senior-fitness-with-brandy/2022-03-04/
LOCATION:Virtual Event
CATEGORIES:Senior Fitness Class
END:VEVENT
BEGIN:VEVENT
DTSTART;TZID=America/New_York:20220307T091500
DTEND;TZID=America/New_York:20220307T100000
DTSTAMP:20260421T105723
CREATED:20220203T172651Z
LAST-MODIFIED:20220225T152734Z
UID:10000710-1646644500-1646647200@dev.healthteamadvantage.com
SUMMARY:In-Person Senior Fitness Class with Brandy
DESCRIPTION:In-person Senior Fitness Class at WellZone at Alamance Regional Medical Center
URL:https://dev.healthteamadvantage.com/event/in-person-senior-fitness-class-with-brandy/2022-03-07/
ORGANIZER;CN="HealthTeam Advantage":MAILTO:HTAlivingplus@healthteamadvantage.com
END:VEVENT
BEGIN:VEVENT
DTSTART;TZID=America/New_York:20220307T163000
DTEND;TZID=America/New_York:20220307T170000
DTSTAMP:20260421T105723
CREATED:20220225T153344Z
LAST-MODIFIED:20220225T153344Z
UID:10000866-1646670600-1646672400@dev.healthteamadvantage.com
SUMMARY:Virtual Pilates with Beth
DESCRIPTION:Mondays at 4:30 pm on Zoom. \nLow-impact flexibility and muscular strength and endurance movements. Pilates emphasizes proper postural alignment\, core strength and muscle balance. \nRegistration link: https://conehealth.zoom.us/meeting/register/tJMocOCurD4vHdDv_aZn3CL4ypRHNpGiKwNG
URL:https://dev.healthteamadvantage.com/event/virtual-pilates-with-beth/2022-03-07/
LOCATION:Virtual Event
CATEGORIES:Senior Fitness Class
ORGANIZER;CN="HealthTeam Advantage":MAILTO:HTAlivingplus@healthteamadvantage.com
END:VEVENT
BEGIN:VEVENT
DTSTART;TZID=America/New_York:20220308T080000
DTEND;TZID=America/New_York:20220308T210000
DTSTAMP:20260421T105723
CREATED:20220225T153721Z
LAST-MODIFIED:20220225T153749Z
UID:10000898-1646726400-1646773200@dev.healthteamadvantage.com
SUMMARY:FUNdamentals of Living Well: Helping You Reach Your Nutrition Goals
DESCRIPTION:Join Cone Health Dietician Kate Watts\, RDN on this free three-week series to help you set achievable health and nutrition goals while having FUN! Topics include food & nutrition\, physical activity\, finding your motivation\, and celebrating success. \nRegistration link: https://www.conehealth.com/careers-at-cone-health/classes/event-registration/?eventId=f2323620-2489-ec11-a84a-000d3a61151d
URL:https://dev.healthteamadvantage.com/event/fundamentals-of-living-well-helping-you-reach-your-nutrition-goals/2022-03-08/
LOCATION:Virtual Event
ORGANIZER;CN="HealthTeam Advantage":MAILTO:HTAlivingplus@healthteamadvantage.com
END:VEVENT
BEGIN:VEVENT
DTSTART;TZID=America/New_York:20220308T090000
DTEND;TZID=America/New_York:20220308T093000
DTSTAMP:20260421T105723
CREATED:20220203T173049Z
LAST-MODIFIED:20220225T152828Z
UID:10000669-1646730000-1646731800@dev.healthteamadvantage.com
SUMMARY:Virtual Senior Fitness Class with Joni
DESCRIPTION:A mixture of chair aerobics\, strength\, and flexibility. A great low-impact option for everyone! \nClick here to register on Zoom. \n 
URL:https://dev.healthteamadvantage.com/event/virtual-senior-fitness-class-with-joni/2022-03-08/
LOCATION:Virtual Event
CATEGORIES:Senior Fitness Class
END:VEVENT
BEGIN:VEVENT
DTSTART;TZID=America/New_York:20220308T091500
DTEND;TZID=America/New_York:20220308T100000
DTSTAMP:20260421T105723
CREATED:20220203T172651Z
LAST-MODIFIED:20220225T152734Z
UID:10000711-1646730900-1646733600@dev.healthteamadvantage.com
SUMMARY:In-Person Senior Fitness Class with Brandy
DESCRIPTION:In-person Senior Fitness Class at WellZone at Alamance Regional Medical Center
URL:https://dev.healthteamadvantage.com/event/in-person-senior-fitness-class-with-brandy/2022-03-08/
ORGANIZER;CN="HealthTeam Advantage":MAILTO:HTAlivingplus@healthteamadvantage.com
END:VEVENT
BEGIN:VEVENT
DTSTART;TZID=America/New_York:20220308T201500
DTEND;TZID=America/New_York:20220308T203000
DTSTAMP:20260421T105723
CREATED:20220225T153135Z
LAST-MODIFIED:20220225T153410Z
UID:10000615-1646770500-1646771400@dev.healthteamadvantage.com
SUMMARY:Virtual Yoga Nidra with Mandy
DESCRIPTION:Tuesdays at 8:15 pm on Zoom. \nA guided meditation also known as “yogic sleep” or “effortless relaxation”. This class is usually practiced lying down in the dark with Mandy guiding the session. \nRegistration link: https://conehealth.zoom.us/meeting/register/tJAvcOCvqz4pH91bSj1CKiLweKO98NyW-3Sf
URL:https://dev.healthteamadvantage.com/event/virtual-yoga-nidra-with-mandy/2022-03-08/
LOCATION:Virtual Event
CATEGORIES:Senior Fitness Class
ORGANIZER;CN="HealthTeam Advantage":MAILTO:HTAlivingplus@healthteamadvantage.com
END:VEVENT
BEGIN:VEVENT
DTSTART;TZID=America/New_York:20220309T090000
DTEND;TZID=America/New_York:20220309T093000
DTSTAMP:20260421T105723
CREATED:20220203T173803Z
LAST-MODIFIED:20220225T152855Z
UID:10000650-1646816400-1646818200@dev.healthteamadvantage.com
SUMMARY:Virtual Silver Sneakers class with Gerald
DESCRIPTION:Click here to register for Zoom.
URL:https://dev.healthteamadvantage.com/event/virtual-silver-sneakers-class-with-gerald/2022-03-09/
LOCATION:Virtual Event
END:VEVENT
BEGIN:VEVENT
DTSTART;TZID=America/New_York:20220309T091500
DTEND;TZID=America/New_York:20220309T100000
DTSTAMP:20260421T105723
CREATED:20220203T172651Z
LAST-MODIFIED:20220225T152734Z
UID:10000712-1646817300-1646820000@dev.healthteamadvantage.com
SUMMARY:In-Person Senior Fitness Class with Brandy
DESCRIPTION:In-person Senior Fitness Class at WellZone at Alamance Regional Medical Center
URL:https://dev.healthteamadvantage.com/event/in-person-senior-fitness-class-with-brandy/2022-03-09/
ORGANIZER;CN="HealthTeam Advantage":MAILTO:HTAlivingplus@healthteamadvantage.com
END:VEVENT
BEGIN:VEVENT
DTSTART;TZID=America/New_York:20220310T091500
DTEND;TZID=America/New_York:20220310T100000
DTSTAMP:20260421T105723
CREATED:20220203T172651Z
LAST-MODIFIED:20220225T152734Z
UID:10000713-1646903700-1646906400@dev.healthteamadvantage.com
SUMMARY:In-Person Senior Fitness Class with Brandy
DESCRIPTION:In-person Senior Fitness Class at WellZone at Alamance Regional Medical Center
URL:https://dev.healthteamadvantage.com/event/in-person-senior-fitness-class-with-brandy/2022-03-10/
ORGANIZER;CN="HealthTeam Advantage":MAILTO:HTAlivingplus@healthteamadvantage.com
END:VEVENT
BEGIN:VEVENT
DTSTART;TZID=America/New_York:20220310T130000
DTEND;TZID=America/New_York:20220310T134500
DTSTAMP:20260421T105723
CREATED:20230627T170737Z
LAST-MODIFIED:20230627T170737Z
UID:10000731-1646917200-1646919900@dev.healthteamadvantage.com
SUMMARY:In-Person Senior Fitness Class with Brandy
DESCRIPTION:In-person Senior Fitness Class at WellZone at Alamance Regional Medical Center
URL:https://dev.healthteamadvantage.com/event/in-person-senior-fitness-class-with-brandy/2022-03-10/
ORGANIZER;CN="HealthTeam Advantage":MAILTO:HTAlivingplus@healthteamadvantage.com
END:VEVENT
BEGIN:VEVENT
DTSTART;TZID=America/New_York:20220310T150000
DTEND;TZID=America/New_York:20220310T160000
DTSTAMP:20260421T105723
CREATED:20220225T153921Z
LAST-MODIFIED:20220225T153921Z
UID:10000897-1646924400-1646928000@dev.healthteamadvantage.com
SUMMARY:Mason Jar Madness
DESCRIPTION:If you have a busy week in front of you\, join Cone Health Registered Dietician Kate Watts\, RDN to get ahead by prepping these healthy mason jar recipes that are portable and convenient to have on hand. \nRegistration link: https://conehealth.zoom.us/meeting/register/tJwodOmsrDMuHtyL0ggtU6x-gvApeFB7WPeB\nAfter registering\, you will receive a confirmation email containing information about joining the meeting.
URL:https://dev.healthteamadvantage.com/event/mason-jar-madness/
LOCATION:Virtual Event
ORGANIZER;CN="HealthTeam Advantage":MAILTO:HTAlivingplus@healthteamadvantage.com
END:VEVENT
BEGIN:VEVENT
DTSTART;TZID=America/New_York:20220310T180000
DTEND;TZID=America/New_York:20220310T190000
DTSTAMP:20260421T105723
CREATED:20220225T154137Z
LAST-MODIFIED:20220225T154137Z
UID:10000896-1646935200-1646938800@dev.healthteamadvantage.com
SUMMARY:Nutritious Meals with Nat: A Quick and Easy Cooking Series
DESCRIPTION:Are you ready to learn how to cook foods that are healthy and delicious? Join us for a one hour class with our guest Chef Natalie Hunt as she demonstrates how to prepare Shrimp & Cassava with Asparagus & Peas! She will demonstrate the art of preparation\, cook the food to perfection\, and offer helpful tips. \nLocation: This class will be held virtually. Upon registering\, you will receive a confirmation email and further information on how to access the class. You will also receive the meal’s recipe and ingredients. Feel free to purchase ingredients ahead of time to cook with the chef or simply watch her create a beautiful meal. \nRegistration link: https://www.conehealth.com/careers-at-cone-health/classes/event-registration/?eventId=803e1906-8e8a-ec11-a84a-000d3a61151d
URL:https://dev.healthteamadvantage.com/event/nutritious-meals-with-nat-a-quick-and-easy-cooking-series/
LOCATION:Virtual Event
ORGANIZER;CN="HealthTeam Advantage":MAILTO:HTAlivingplus@healthteamadvantage.com
END:VEVENT
BEGIN:VEVENT
DTSTART;TZID=America/New_York:20220311T090000
DTEND;TZID=America/New_York:20220311T093000
DTSTAMP:20260421T105723
CREATED:20220203T173308Z
LAST-MODIFIED:20220225T152805Z
UID:10000660-1646989200-1646991000@dev.healthteamadvantage.com
SUMMARY:Virtual Senior Fitness with Brandy
DESCRIPTION:A mixture of chair aerobics\, strength\, and flexibility. A great low-impact option for everyone! \nClick here to register on Zoom. \n 
URL:https://dev.healthteamadvantage.com/event/virtual-senior-fitness-with-brandy/2022-03-11/
LOCATION:Virtual Event
CATEGORIES:Senior Fitness Class
END:VEVENT
BEGIN:VEVENT
DTSTART;TZID=America/New_York:20220314T091500
DTEND;TZID=America/New_York:20220314T100000
DTSTAMP:20260421T105723
CREATED:20220203T172651Z
LAST-MODIFIED:20220225T152734Z
UID:10000714-1647249300-1647252000@dev.healthteamadvantage.com
SUMMARY:In-Person Senior Fitness Class with Brandy
DESCRIPTION:In-person Senior Fitness Class at WellZone at Alamance Regional Medical Center
URL:https://dev.healthteamadvantage.com/event/in-person-senior-fitness-class-with-brandy/2022-03-14/
ORGANIZER;CN="HealthTeam Advantage":MAILTO:HTAlivingplus@healthteamadvantage.com
END:VEVENT
BEGIN:VEVENT
DTSTART;TZID=America/New_York:20220314T163000
DTEND;TZID=America/New_York:20220314T170000
DTSTAMP:20260421T105723
CREATED:20220225T153344Z
LAST-MODIFIED:20220225T153344Z
UID:10000867-1647275400-1647277200@dev.healthteamadvantage.com
SUMMARY:Virtual Pilates with Beth
DESCRIPTION:Mondays at 4:30 pm on Zoom. \nLow-impact flexibility and muscular strength and endurance movements. Pilates emphasizes proper postural alignment\, core strength and muscle balance. \nRegistration link: https://conehealth.zoom.us/meeting/register/tJMocOCurD4vHdDv_aZn3CL4ypRHNpGiKwNG
URL:https://dev.healthteamadvantage.com/event/virtual-pilates-with-beth/2022-03-14/
LOCATION:Virtual Event
CATEGORIES:Senior Fitness Class
ORGANIZER;CN="HealthTeam Advantage":MAILTO:HTAlivingplus@healthteamadvantage.com
END:VEVENT
BEGIN:VEVENT
DTSTART;TZID=America/New_York:20220315T080000
DTEND;TZID=America/New_York:20220315T210000
DTSTAMP:20260421T105723
CREATED:20220225T153721Z
LAST-MODIFIED:20220225T153749Z
UID:10000899-1647331200-1647378000@dev.healthteamadvantage.com
SUMMARY:FUNdamentals of Living Well: Helping You Reach Your Nutrition Goals
DESCRIPTION:Join Cone Health Dietician Kate Watts\, RDN on this free three-week series to help you set achievable health and nutrition goals while having FUN! Topics include food & nutrition\, physical activity\, finding your motivation\, and celebrating success. \nRegistration link: https://www.conehealth.com/careers-at-cone-health/classes/event-registration/?eventId=f2323620-2489-ec11-a84a-000d3a61151d
URL:https://dev.healthteamadvantage.com/event/fundamentals-of-living-well-helping-you-reach-your-nutrition-goals/2022-03-15/
LOCATION:Virtual Event
ORGANIZER;CN="HealthTeam Advantage":MAILTO:HTAlivingplus@healthteamadvantage.com
END:VEVENT
BEGIN:VEVENT
DTSTART;TZID=America/New_York:20220315T083000
DTEND;TZID=America/New_York:20220315T160000
DTSTAMP:20260421T105723
CREATED:20220225T155041Z
LAST-MODIFIED:20220225T155138Z
UID:10000893-1647333000-1647360000@dev.healthteamadvantage.com
SUMMARY:Mobile Cancer Screenings
DESCRIPTION:Location: Parking lot behind City Hall Reidsville\, NC \nPlease email Kelley Kimrey (kelley.kimrey2@conehealth.com) for more information or to schedule your appointment.\nThe Cone Health Cancer Center Mobile Screening Unit provides cancer screenings to men and women within Guilford\, Rockingham\, Randolph\, and Alamance Counties. \nServices Provided: \n\nBreast cancer screenings that include clinical breast exams and mammograms\nProstate cancer screenings (PSA blood tests)\nColorectal Screenings (distribution of FIT Tests)
URL:https://dev.healthteamadvantage.com/event/mobile-cancer-screenings/
ORGANIZER;CN="HealthTeam Advantage":MAILTO:HTAlivingplus@healthteamadvantage.com
END:VEVENT
BEGIN:VEVENT
DTSTART;TZID=America/New_York:20220315T090000
DTEND;TZID=America/New_York:20220315T093000
DTSTAMP:20260421T105723
CREATED:20220203T173049Z
LAST-MODIFIED:20220225T152828Z
UID:10000670-1647334800-1647336600@dev.healthteamadvantage.com
SUMMARY:Virtual Senior Fitness Class with Joni
DESCRIPTION:A mixture of chair aerobics\, strength\, and flexibility. A great low-impact option for everyone! \nClick here to register on Zoom. \n 
URL:https://dev.healthteamadvantage.com/event/virtual-senior-fitness-class-with-joni/2022-03-15/
LOCATION:Virtual Event
CATEGORIES:Senior Fitness Class
END:VEVENT
BEGIN:VEVENT
DTSTART;TZID=America/New_York:20220315T091500
DTEND;TZID=America/New_York:20220315T100000
DTSTAMP:20260421T105723
CREATED:20220203T172651Z
LAST-MODIFIED:20220225T152734Z
UID:10000715-1647335700-1647338400@dev.healthteamadvantage.com
SUMMARY:In-Person Senior Fitness Class with Brandy
DESCRIPTION:In-person Senior Fitness Class at WellZone at Alamance Regional Medical Center
URL:https://dev.healthteamadvantage.com/event/in-person-senior-fitness-class-with-brandy/2022-03-15/
ORGANIZER;CN="HealthTeam Advantage":MAILTO:HTAlivingplus@healthteamadvantage.com
END:VEVENT
BEGIN:VEVENT
DTSTART;TZID=America/New_York:20220315T201500
DTEND;TZID=America/New_York:20220315T203000
DTSTAMP:20260421T105723
CREATED:20220225T153135Z
LAST-MODIFIED:20220225T153410Z
UID:10000616-1647375300-1647376200@dev.healthteamadvantage.com
SUMMARY:Virtual Yoga Nidra with Mandy
DESCRIPTION:Tuesdays at 8:15 pm on Zoom. \nA guided meditation also known as “yogic sleep” or “effortless relaxation”. This class is usually practiced lying down in the dark with Mandy guiding the session. \nRegistration link: https://conehealth.zoom.us/meeting/register/tJAvcOCvqz4pH91bSj1CKiLweKO98NyW-3Sf
URL:https://dev.healthteamadvantage.com/event/virtual-yoga-nidra-with-mandy/2022-03-15/
LOCATION:Virtual Event
CATEGORIES:Senior Fitness Class
ORGANIZER;CN="HealthTeam Advantage":MAILTO:HTAlivingplus@healthteamadvantage.com
END:VEVENT
BEGIN:VEVENT
DTSTART;TZID=America/New_York:20220316T090000
DTEND;TZID=America/New_York:20220316T093000
DTSTAMP:20260421T105723
CREATED:20220203T173803Z
LAST-MODIFIED:20220225T152855Z
UID:10000651-1647421200-1647423000@dev.healthteamadvantage.com
SUMMARY:Virtual Silver Sneakers class with Gerald
DESCRIPTION:Click here to register for Zoom.
URL:https://dev.healthteamadvantage.com/event/virtual-silver-sneakers-class-with-gerald/2022-03-16/
LOCATION:Virtual Event
END:VEVENT
END:VCALENDAR