BEGIN:VCALENDAR
VERSION:2.0
PRODID:-//HealthTeam Advantage - ECPv6.15.20//NONSGML v1.0//EN
CALSCALE:GREGORIAN
METHOD:PUBLISH
X-WR-CALNAME:HealthTeam Advantage
X-ORIGINAL-URL:https://dev.healthteamadvantage.com
X-WR-CALDESC:Events for HealthTeam Advantage
REFRESH-INTERVAL;VALUE=DURATION:PT1H
X-Robots-Tag:noindex
X-PUBLISHED-TTL:PT1H
BEGIN:VTIMEZONE
TZID:America/New_York
BEGIN:DAYLIGHT
TZOFFSETFROM:-0500
TZOFFSETTO:-0400
TZNAME:EDT
DTSTART:20210314T070000
END:DAYLIGHT
BEGIN:STANDARD
TZOFFSETFROM:-0400
TZOFFSETTO:-0500
TZNAME:EST
DTSTART:20211107T060000
END:STANDARD
BEGIN:DAYLIGHT
TZOFFSETFROM:-0500
TZOFFSETTO:-0400
TZNAME:EDT
DTSTART:20220313T070000
END:DAYLIGHT
BEGIN:STANDARD
TZOFFSETFROM:-0400
TZOFFSETTO:-0500
TZNAME:EST
DTSTART:20221106T060000
END:STANDARD
BEGIN:DAYLIGHT
TZOFFSETFROM:-0500
TZOFFSETTO:-0400
TZNAME:EDT
DTSTART:20230312T070000
END:DAYLIGHT
BEGIN:STANDARD
TZOFFSETFROM:-0400
TZOFFSETTO:-0500
TZNAME:EST
DTSTART:20231105T060000
END:STANDARD
END:VTIMEZONE
BEGIN:VEVENT
DTSTART;TZID=America/New_York:20220201T090000
DTEND;TZID=America/New_York:20220201T093000
DTSTAMP:20260421T123553
CREATED:20220203T173049Z
LAST-MODIFIED:20220225T152828Z
UID:10000664-1643706000-1643707800@dev.healthteamadvantage.com
SUMMARY:Virtual Senior Fitness Class with Joni
DESCRIPTION:A mixture of chair aerobics\, strength\, and flexibility. A great low-impact option for everyone! \nClick here to register on Zoom. \n 
URL:https://dev.healthteamadvantage.com/event/virtual-senior-fitness-class-with-joni/2022-02-01/
LOCATION:Virtual Event
CATEGORIES:Senior Fitness Class
END:VEVENT
BEGIN:VEVENT
DTSTART;TZID=America/New_York:20220201T091500
DTEND;TZID=America/New_York:20220201T100000
DTSTAMP:20260421T123553
CREATED:20220203T172651Z
LAST-MODIFIED:20220225T152734Z
UID:10000691-1643706900-1643709600@dev.healthteamadvantage.com
SUMMARY:In-Person Senior Fitness Class with Brandy
DESCRIPTION:In-person Senior Fitness Class at WellZone at Alamance Regional Medical Center
URL:https://dev.healthteamadvantage.com/event/in-person-senior-fitness-class-with-brandy/2022-02-01/
ORGANIZER;CN="HealthTeam Advantage":MAILTO:HTAlivingplus@healthteamadvantage.com
END:VEVENT
BEGIN:VEVENT
DTSTART;TZID=America/New_York:20220202T090000
DTEND;TZID=America/New_York:20220202T093000
DTSTAMP:20260421T123553
CREATED:20220203T173803Z
LAST-MODIFIED:20220225T152855Z
UID:10000645-1643792400-1643794200@dev.healthteamadvantage.com
SUMMARY:Virtual Silver Sneakers class with Gerald
DESCRIPTION:Click here to register for Zoom.
URL:https://dev.healthteamadvantage.com/event/virtual-silver-sneakers-class-with-gerald/2022-02-02/
LOCATION:Virtual Event
END:VEVENT
BEGIN:VEVENT
DTSTART;TZID=America/New_York:20220202T091500
DTEND;TZID=America/New_York:20220202T100000
DTSTAMP:20260421T123553
CREATED:20220203T172651Z
LAST-MODIFIED:20220225T152734Z
UID:10000692-1643793300-1643796000@dev.healthteamadvantage.com
SUMMARY:In-Person Senior Fitness Class with Brandy
DESCRIPTION:In-person Senior Fitness Class at WellZone at Alamance Regional Medical Center
URL:https://dev.healthteamadvantage.com/event/in-person-senior-fitness-class-with-brandy/2022-02-02/
ORGANIZER;CN="HealthTeam Advantage":MAILTO:HTAlivingplus@healthteamadvantage.com
END:VEVENT
BEGIN:VEVENT
DTSTART;TZID=America/New_York:20220203T091500
DTEND;TZID=America/New_York:20220203T100000
DTSTAMP:20260421T123553
CREATED:20220203T172651Z
LAST-MODIFIED:20220225T152734Z
UID:10000693-1643879700-1643882400@dev.healthteamadvantage.com
SUMMARY:In-Person Senior Fitness Class with Brandy
DESCRIPTION:In-person Senior Fitness Class at WellZone at Alamance Regional Medical Center
URL:https://dev.healthteamadvantage.com/event/in-person-senior-fitness-class-with-brandy/2022-02-03/
ORGANIZER;CN="HealthTeam Advantage":MAILTO:HTAlivingplus@healthteamadvantage.com
END:VEVENT
BEGIN:VEVENT
DTSTART;TZID=America/New_York:20220203T130000
DTEND;TZID=America/New_York:20220203T134500
DTSTAMP:20260421T123553
CREATED:20230627T170737Z
LAST-MODIFIED:20230627T170737Z
UID:10000726-1643893200-1643895900@dev.healthteamadvantage.com
SUMMARY:In-Person Senior Fitness Class with Brandy
DESCRIPTION:In-person Senior Fitness Class at WellZone at Alamance Regional Medical Center
URL:https://dev.healthteamadvantage.com/event/in-person-senior-fitness-class-with-brandy/2022-02-03/
ORGANIZER;CN="HealthTeam Advantage":MAILTO:HTAlivingplus@healthteamadvantage.com
END:VEVENT
BEGIN:VEVENT
DTSTART;TZID=America/New_York:20220204T090000
DTEND;TZID=America/New_York:20220204T093000
DTSTAMP:20260421T123553
CREATED:20220203T173308Z
LAST-MODIFIED:20220225T152805Z
UID:10000655-1643965200-1643967000@dev.healthteamadvantage.com
SUMMARY:Virtual Senior Fitness with Brandy
DESCRIPTION:A mixture of chair aerobics\, strength\, and flexibility. A great low-impact option for everyone! \nClick here to register on Zoom. \n 
URL:https://dev.healthteamadvantage.com/event/virtual-senior-fitness-with-brandy/2022-02-04/
LOCATION:Virtual Event
CATEGORIES:Senior Fitness Class
END:VEVENT
BEGIN:VEVENT
DTSTART;TZID=America/New_York:20220204T110000
DTEND;TZID=America/New_York:20220204T140000
DTSTAMP:20260421T123553
CREATED:20220203T174509Z
LAST-MODIFIED:20220203T174509Z
UID:10000622-1643972400-1643983200@dev.healthteamadvantage.com
SUMMARY:Wear Red Day Walk
DESCRIPTION:Reidsville Parks and Recreation Gym \nJoin Wellness Coordinator Kelley Kimrey and come out and walk 1 mile or 30 minutes in support of National Wear Red Day.  Wear RED to help raise awareness about cardiovascular disease.  More women die of heart disease than all cancers combined!  Let’s raise awareness and encourage all women to take charge of their health! \nNot able to join me?  Send a selfie wearing Red and who you go Red for!  We will post it on HTA Facebook. \n 
URL:https://dev.healthteamadvantage.com/event/wear-red-day-walk/
ORGANIZER;CN="HealthTeam Advantage":MAILTO:HTAlivingplus@healthteamadvantage.com
END:VEVENT
BEGIN:VEVENT
DTSTART;TZID=America/New_York:20220207T091500
DTEND;TZID=America/New_York:20220207T100000
DTSTAMP:20260421T123553
CREATED:20220203T172651Z
LAST-MODIFIED:20220225T152734Z
UID:10000694-1644225300-1644228000@dev.healthteamadvantage.com
SUMMARY:In-Person Senior Fitness Class with Brandy
DESCRIPTION:In-person Senior Fitness Class at WellZone at Alamance Regional Medical Center
URL:https://dev.healthteamadvantage.com/event/in-person-senior-fitness-class-with-brandy/2022-02-07/
ORGANIZER;CN="HealthTeam Advantage":MAILTO:HTAlivingplus@healthteamadvantage.com
END:VEVENT
BEGIN:VEVENT
DTSTART;TZID=America/New_York:20220207T120000
DTEND;TZID=America/New_York:20220207T130000
DTSTAMP:20260421T123553
CREATED:20220203T174149Z
LAST-MODIFIED:20220203T174149Z
UID:10000634-1644235200-1644238800@dev.healthteamadvantage.com
SUMMARY:QuitSmart (Online/Telephonic)
DESCRIPTION:Feel healthier\, breathe easier\, and have more energy when you quit smoking! Free four-class series includes a QuitSmart kit\, which has been proven effective to help participants stop smoking. The program is available for anyone who currently smokes.  Participants should plan to attend all dates.  Each class will be approximately 1 hour. \nRegistration link: https://www.conehealth.com/patients-visitors/classes/registration/?eventId=69820594-a773-ec11-a849-000d3a61151d \n 
URL:https://dev.healthteamadvantage.com/event/quitsmart-online-telephonic/2022-02-07/
LOCATION:Virtual Event
END:VEVENT
BEGIN:VEVENT
DTSTART;TZID=America/New_York:20220207T173000
DTEND;TZID=America/New_York:20220207T183000
DTSTAMP:20260421T123553
CREATED:20220203T174338Z
LAST-MODIFIED:20220203T174338Z
UID:10000625-1644255000-1644258600@dev.healthteamadvantage.com
SUMMARY:QuitSmart (Online/Telephonic)
DESCRIPTION:Feel healthier\, breathe easier\, and have more energy when you quit smoking! Free four-class series includes a QuitSmart kit\, which has been proven effective to help participants stop smoking. The program is available for anyone who currently smokes.  Participants should plan to attend all dates. Each class will be approximately 1 hour. \nRegistration link: https://www.conehealth.com/patients-visitors/classes/registration/?eventId=823e39f9-a673-ec11-a849-000d3a61151d \n 
URL:https://dev.healthteamadvantage.com/event/quitsmart-online-telephonic-2/2022-02-07/
LOCATION:Virtual Event
END:VEVENT
BEGIN:VEVENT
DTSTART;TZID=America/New_York:20220208T090000
DTEND;TZID=America/New_York:20220208T093000
DTSTAMP:20260421T123553
CREATED:20220203T173049Z
LAST-MODIFIED:20220225T152828Z
UID:10000665-1644310800-1644312600@dev.healthteamadvantage.com
SUMMARY:Virtual Senior Fitness Class with Joni
DESCRIPTION:A mixture of chair aerobics\, strength\, and flexibility. A great low-impact option for everyone! \nClick here to register on Zoom. \n 
URL:https://dev.healthteamadvantage.com/event/virtual-senior-fitness-class-with-joni/2022-02-08/
LOCATION:Virtual Event
CATEGORIES:Senior Fitness Class
END:VEVENT
BEGIN:VEVENT
DTSTART;TZID=America/New_York:20220208T091500
DTEND;TZID=America/New_York:20220208T100000
DTSTAMP:20260421T123553
CREATED:20220203T172651Z
LAST-MODIFIED:20220225T152734Z
UID:10000695-1644311700-1644314400@dev.healthteamadvantage.com
SUMMARY:In-Person Senior Fitness Class with Brandy
DESCRIPTION:In-person Senior Fitness Class at WellZone at Alamance Regional Medical Center
URL:https://dev.healthteamadvantage.com/event/in-person-senior-fitness-class-with-brandy/2022-02-08/
ORGANIZER;CN="HealthTeam Advantage":MAILTO:HTAlivingplus@healthteamadvantage.com
END:VEVENT
BEGIN:VEVENT
DTSTART;TZID=America/New_York:20220209T090000
DTEND;TZID=America/New_York:20220209T093000
DTSTAMP:20260421T123553
CREATED:20220203T173803Z
LAST-MODIFIED:20220225T152855Z
UID:10000646-1644397200-1644399000@dev.healthteamadvantage.com
SUMMARY:Virtual Silver Sneakers class with Gerald
DESCRIPTION:Click here to register for Zoom.
URL:https://dev.healthteamadvantage.com/event/virtual-silver-sneakers-class-with-gerald/2022-02-09/
LOCATION:Virtual Event
END:VEVENT
BEGIN:VEVENT
DTSTART;TZID=America/New_York:20220209T091500
DTEND;TZID=America/New_York:20220209T100000
DTSTAMP:20260421T123553
CREATED:20220203T172651Z
LAST-MODIFIED:20220225T152734Z
UID:10000696-1644398100-1644400800@dev.healthteamadvantage.com
SUMMARY:In-Person Senior Fitness Class with Brandy
DESCRIPTION:In-person Senior Fitness Class at WellZone at Alamance Regional Medical Center
URL:https://dev.healthteamadvantage.com/event/in-person-senior-fitness-class-with-brandy/2022-02-09/
ORGANIZER;CN="HealthTeam Advantage":MAILTO:HTAlivingplus@healthteamadvantage.com
END:VEVENT
BEGIN:VEVENT
DTSTART;TZID=America/New_York:20220209T120000
DTEND;TZID=America/New_York:20220209T130000
DTSTAMP:20260421T123553
CREATED:20220203T174149Z
LAST-MODIFIED:20220203T174149Z
UID:10000635-1644408000-1644411600@dev.healthteamadvantage.com
SUMMARY:QuitSmart (Online/Telephonic)
DESCRIPTION:Feel healthier\, breathe easier\, and have more energy when you quit smoking! Free four-class series includes a QuitSmart kit\, which has been proven effective to help participants stop smoking. The program is available for anyone who currently smokes.  Participants should plan to attend all dates.  Each class will be approximately 1 hour. \nRegistration link: https://www.conehealth.com/patients-visitors/classes/registration/?eventId=69820594-a773-ec11-a849-000d3a61151d \n 
URL:https://dev.healthteamadvantage.com/event/quitsmart-online-telephonic/2022-02-09/
LOCATION:Virtual Event
END:VEVENT
BEGIN:VEVENT
DTSTART;TZID=America/New_York:20220209T173000
DTEND;TZID=America/New_York:20220209T183000
DTSTAMP:20260421T123553
CREATED:20220203T174338Z
LAST-MODIFIED:20220203T174338Z
UID:10000626-1644427800-1644431400@dev.healthteamadvantage.com
SUMMARY:QuitSmart (Online/Telephonic)
DESCRIPTION:Feel healthier\, breathe easier\, and have more energy when you quit smoking! Free four-class series includes a QuitSmart kit\, which has been proven effective to help participants stop smoking. The program is available for anyone who currently smokes.  Participants should plan to attend all dates. Each class will be approximately 1 hour. \nRegistration link: https://www.conehealth.com/patients-visitors/classes/registration/?eventId=823e39f9-a673-ec11-a849-000d3a61151d \n 
URL:https://dev.healthteamadvantage.com/event/quitsmart-online-telephonic-2/2022-02-09/
LOCATION:Virtual Event
END:VEVENT
BEGIN:VEVENT
DTSTART;TZID=America/New_York:20220210T091500
DTEND;TZID=America/New_York:20220210T100000
DTSTAMP:20260421T123553
CREATED:20220203T172651Z
LAST-MODIFIED:20220225T152734Z
UID:10000697-1644484500-1644487200@dev.healthteamadvantage.com
SUMMARY:In-Person Senior Fitness Class with Brandy
DESCRIPTION:In-person Senior Fitness Class at WellZone at Alamance Regional Medical Center
URL:https://dev.healthteamadvantage.com/event/in-person-senior-fitness-class-with-brandy/2022-02-10/
ORGANIZER;CN="HealthTeam Advantage":MAILTO:HTAlivingplus@healthteamadvantage.com
END:VEVENT
BEGIN:VEVENT
DTSTART;TZID=America/New_York:20220210T130000
DTEND;TZID=America/New_York:20220210T134500
DTSTAMP:20260421T123553
CREATED:20230627T170737Z
LAST-MODIFIED:20230627T170737Z
UID:10000727-1644498000-1644500700@dev.healthteamadvantage.com
SUMMARY:In-Person Senior Fitness Class with Brandy
DESCRIPTION:In-person Senior Fitness Class at WellZone at Alamance Regional Medical Center
URL:https://dev.healthteamadvantage.com/event/in-person-senior-fitness-class-with-brandy/2022-02-10/
ORGANIZER;CN="HealthTeam Advantage":MAILTO:HTAlivingplus@healthteamadvantage.com
END:VEVENT
BEGIN:VEVENT
DTSTART;TZID=America/New_York:20220210T150000
DTEND;TZID=America/New_York:20220210T160000
DTSTAMP:20260421T123553
CREATED:20220203T174639Z
LAST-MODIFIED:20220203T174639Z
UID:10000621-1644505200-1644508800@dev.healthteamadvantage.com
SUMMARY:Heart Health Webinar
DESCRIPTION:Join Registered Dietitian\, Kate Watts this month as she talks about food and nutrition tips for a healthy heart and shares two delicious and nutritious snack ideas that are quick and easy to prepare! \nRegister in advance for this meeting: https://conehealth.zoom.us/meeting/register/tJ0vd-GurzMrH9cHxalkymFzH8n-LZ9Qz7nY \nAfter registering\, you will receive a confirmation email containing information about joining the meeting. \n*participants will receive a gift card for attending*
URL:https://dev.healthteamadvantage.com/event/heart-health-webinar/
LOCATION:Virtual Event
ORGANIZER;CN="HealthTeam Advantage":MAILTO:HTAlivingplus@healthteamadvantage.com
END:VEVENT
BEGIN:VEVENT
DTSTART;TZID=America/New_York:20220211T090000
DTEND;TZID=America/New_York:20220211T093000
DTSTAMP:20260421T123553
CREATED:20220203T173308Z
LAST-MODIFIED:20220225T152805Z
UID:10000656-1644570000-1644571800@dev.healthteamadvantage.com
SUMMARY:Virtual Senior Fitness with Brandy
DESCRIPTION:A mixture of chair aerobics\, strength\, and flexibility. A great low-impact option for everyone! \nClick here to register on Zoom. \n 
URL:https://dev.healthteamadvantage.com/event/virtual-senior-fitness-with-brandy/2022-02-11/
LOCATION:Virtual Event
CATEGORIES:Senior Fitness Class
END:VEVENT
BEGIN:VEVENT
DTSTART;TZID=America/New_York:20220214T091500
DTEND;TZID=America/New_York:20220214T100000
DTSTAMP:20260421T123553
CREATED:20220203T172651Z
LAST-MODIFIED:20220225T152734Z
UID:10000698-1644830100-1644832800@dev.healthteamadvantage.com
SUMMARY:In-Person Senior Fitness Class with Brandy
DESCRIPTION:In-person Senior Fitness Class at WellZone at Alamance Regional Medical Center
URL:https://dev.healthteamadvantage.com/event/in-person-senior-fitness-class-with-brandy/2022-02-14/
ORGANIZER;CN="HealthTeam Advantage":MAILTO:HTAlivingplus@healthteamadvantage.com
END:VEVENT
BEGIN:VEVENT
DTSTART;TZID=America/New_York:20220214T120000
DTEND;TZID=America/New_York:20220214T130000
DTSTAMP:20260421T123553
CREATED:20220203T174149Z
LAST-MODIFIED:20220203T174149Z
UID:10000636-1644840000-1644843600@dev.healthteamadvantage.com
SUMMARY:QuitSmart (Online/Telephonic)
DESCRIPTION:Feel healthier\, breathe easier\, and have more energy when you quit smoking! Free four-class series includes a QuitSmart kit\, which has been proven effective to help participants stop smoking. The program is available for anyone who currently smokes.  Participants should plan to attend all dates.  Each class will be approximately 1 hour. \nRegistration link: https://www.conehealth.com/patients-visitors/classes/registration/?eventId=69820594-a773-ec11-a849-000d3a61151d \n 
URL:https://dev.healthteamadvantage.com/event/quitsmart-online-telephonic/2022-02-14/
LOCATION:Virtual Event
END:VEVENT
BEGIN:VEVENT
DTSTART;TZID=America/New_York:20220214T173000
DTEND;TZID=America/New_York:20220214T183000
DTSTAMP:20260421T123553
CREATED:20220203T174338Z
LAST-MODIFIED:20220203T174338Z
UID:10000627-1644859800-1644863400@dev.healthteamadvantage.com
SUMMARY:QuitSmart (Online/Telephonic)
DESCRIPTION:Feel healthier\, breathe easier\, and have more energy when you quit smoking! Free four-class series includes a QuitSmart kit\, which has been proven effective to help participants stop smoking. The program is available for anyone who currently smokes.  Participants should plan to attend all dates. Each class will be approximately 1 hour. \nRegistration link: https://www.conehealth.com/patients-visitors/classes/registration/?eventId=823e39f9-a673-ec11-a849-000d3a61151d \n 
URL:https://dev.healthteamadvantage.com/event/quitsmart-online-telephonic-2/2022-02-14/
LOCATION:Virtual Event
END:VEVENT
BEGIN:VEVENT
DTSTART;TZID=America/New_York:20220215T090000
DTEND;TZID=America/New_York:20220215T093000
DTSTAMP:20260421T123553
CREATED:20220203T173049Z
LAST-MODIFIED:20220225T152828Z
UID:10000666-1644915600-1644917400@dev.healthteamadvantage.com
SUMMARY:Virtual Senior Fitness Class with Joni
DESCRIPTION:A mixture of chair aerobics\, strength\, and flexibility. A great low-impact option for everyone! \nClick here to register on Zoom. \n 
URL:https://dev.healthteamadvantage.com/event/virtual-senior-fitness-class-with-joni/2022-02-15/
LOCATION:Virtual Event
CATEGORIES:Senior Fitness Class
END:VEVENT
BEGIN:VEVENT
DTSTART;TZID=America/New_York:20220215T091500
DTEND;TZID=America/New_York:20220215T100000
DTSTAMP:20260421T123553
CREATED:20220203T172651Z
LAST-MODIFIED:20220225T152734Z
UID:10000699-1644916500-1644919200@dev.healthteamadvantage.com
SUMMARY:In-Person Senior Fitness Class with Brandy
DESCRIPTION:In-person Senior Fitness Class at WellZone at Alamance Regional Medical Center
URL:https://dev.healthteamadvantage.com/event/in-person-senior-fitness-class-with-brandy/2022-02-15/
ORGANIZER;CN="HealthTeam Advantage":MAILTO:HTAlivingplus@healthteamadvantage.com
END:VEVENT
BEGIN:VEVENT
DTSTART;TZID=America/New_York:20220216T090000
DTEND;TZID=America/New_York:20220216T093000
DTSTAMP:20260421T123553
CREATED:20220203T173803Z
LAST-MODIFIED:20220225T152855Z
UID:10000647-1645002000-1645003800@dev.healthteamadvantage.com
SUMMARY:Virtual Silver Sneakers class with Gerald
DESCRIPTION:Click here to register for Zoom.
URL:https://dev.healthteamadvantage.com/event/virtual-silver-sneakers-class-with-gerald/2022-02-16/
LOCATION:Virtual Event
END:VEVENT
BEGIN:VEVENT
DTSTART;TZID=America/New_York:20220216T091500
DTEND;TZID=America/New_York:20220216T100000
DTSTAMP:20260421T123553
CREATED:20220203T172651Z
LAST-MODIFIED:20220225T152734Z
UID:10000700-1645002900-1645005600@dev.healthteamadvantage.com
SUMMARY:In-Person Senior Fitness Class with Brandy
DESCRIPTION:In-person Senior Fitness Class at WellZone at Alamance Regional Medical Center
URL:https://dev.healthteamadvantage.com/event/in-person-senior-fitness-class-with-brandy/2022-02-16/
ORGANIZER;CN="HealthTeam Advantage":MAILTO:HTAlivingplus@healthteamadvantage.com
END:VEVENT
BEGIN:VEVENT
DTSTART;TZID=America/New_York:20220216T120000
DTEND;TZID=America/New_York:20220216T130000
DTSTAMP:20260421T123553
CREATED:20220203T174149Z
LAST-MODIFIED:20220203T174149Z
UID:10000637-1645012800-1645016400@dev.healthteamadvantage.com
SUMMARY:QuitSmart (Online/Telephonic)
DESCRIPTION:Feel healthier\, breathe easier\, and have more energy when you quit smoking! Free four-class series includes a QuitSmart kit\, which has been proven effective to help participants stop smoking. The program is available for anyone who currently smokes.  Participants should plan to attend all dates.  Each class will be approximately 1 hour. \nRegistration link: https://www.conehealth.com/patients-visitors/classes/registration/?eventId=69820594-a773-ec11-a849-000d3a61151d \n 
URL:https://dev.healthteamadvantage.com/event/quitsmart-online-telephonic/2022-02-16/
LOCATION:Virtual Event
END:VEVENT
BEGIN:VEVENT
DTSTART;TZID=America/New_York:20220216T173000
DTEND;TZID=America/New_York:20220216T183000
DTSTAMP:20260421T123553
CREATED:20220203T174338Z
LAST-MODIFIED:20220203T174338Z
UID:10000628-1645032600-1645036200@dev.healthteamadvantage.com
SUMMARY:QuitSmart (Online/Telephonic)
DESCRIPTION:Feel healthier\, breathe easier\, and have more energy when you quit smoking! Free four-class series includes a QuitSmart kit\, which has been proven effective to help participants stop smoking. The program is available for anyone who currently smokes.  Participants should plan to attend all dates. Each class will be approximately 1 hour. \nRegistration link: https://www.conehealth.com/patients-visitors/classes/registration/?eventId=823e39f9-a673-ec11-a849-000d3a61151d \n 
URL:https://dev.healthteamadvantage.com/event/quitsmart-online-telephonic-2/2022-02-16/
LOCATION:Virtual Event
END:VEVENT
END:VCALENDAR