BEGIN:VCALENDAR
VERSION:2.0
PRODID:-//HealthTeam Advantage - ECPv6.15.20//NONSGML v1.0//EN
CALSCALE:GREGORIAN
METHOD:PUBLISH
X-ORIGINAL-URL:https://dev.healthteamadvantage.com
X-WR-CALDESC:Events for HealthTeam Advantage
REFRESH-INTERVAL;VALUE=DURATION:PT1H
X-Robots-Tag:noindex
X-PUBLISHED-TTL:PT1H
BEGIN:VTIMEZONE
TZID:America/New_York
BEGIN:DAYLIGHT
TZOFFSETFROM:-0500
TZOFFSETTO:-0400
TZNAME:EDT
DTSTART:20200308T070000
END:DAYLIGHT
BEGIN:STANDARD
TZOFFSETFROM:-0400
TZOFFSETTO:-0500
TZNAME:EST
DTSTART:20201101T060000
END:STANDARD
BEGIN:DAYLIGHT
TZOFFSETFROM:-0500
TZOFFSETTO:-0400
TZNAME:EDT
DTSTART:20210314T070000
END:DAYLIGHT
BEGIN:STANDARD
TZOFFSETFROM:-0400
TZOFFSETTO:-0500
TZNAME:EST
DTSTART:20211107T060000
END:STANDARD
BEGIN:DAYLIGHT
TZOFFSETFROM:-0500
TZOFFSETTO:-0400
TZNAME:EDT
DTSTART:20220313T070000
END:DAYLIGHT
BEGIN:STANDARD
TZOFFSETFROM:-0400
TZOFFSETTO:-0500
TZNAME:EST
DTSTART:20221106T060000
END:STANDARD
END:VTIMEZONE
BEGIN:VEVENT
DTSTART;TZID=America/New_York:20211005T150000
DTEND;TZID=America/New_York:20211005T154500
DTSTAMP:20260421T183944
CREATED:20211002T143201Z
LAST-MODIFIED:20211108T203018Z
UID:10000808-1633446000-1633448700@dev.healthteamadvantage.com
SUMMARY:Living Plus: Your Guide to Making Better Food Decisions
DESCRIPTION:Join us every Tuesday in October with registered dietitian\, Kate Watts. Kate will lead this four-week series that provides insights on how to make meaningful changes to your food habits through mindfulness and self-awareness. This class will be delivered completely online at no cost to HealthTeam Advantage members. You must be able to access Zoom through either your computer or telephone to complete the class. \n Register Here\n 
URL:https://dev.healthteamadvantage.com/event/making-better-food-decisions/2021-10-05/
LOCATION:Virtual Event
ORGANIZER;CN="HealthTeam Advantage":MAILTO:HTAlivingplus@healthteamadvantage.com
END:VEVENT
BEGIN:VEVENT
DTSTART;TZID=America/New_York:20211012T150000
DTEND;TZID=America/New_York:20211012T154500
DTSTAMP:20260421T183944
CREATED:20211002T143201Z
LAST-MODIFIED:20211108T203018Z
UID:10000809-1634050800-1634053500@dev.healthteamadvantage.com
SUMMARY:Living Plus: Your Guide to Making Better Food Decisions
DESCRIPTION:Join us every Tuesday in October with registered dietitian\, Kate Watts. Kate will lead this four-week series that provides insights on how to make meaningful changes to your food habits through mindfulness and self-awareness. This class will be delivered completely online at no cost to HealthTeam Advantage members. You must be able to access Zoom through either your computer or telephone to complete the class. \n Register Here\n 
URL:https://dev.healthteamadvantage.com/event/making-better-food-decisions/2021-10-12/
LOCATION:Virtual Event
ORGANIZER;CN="HealthTeam Advantage":MAILTO:HTAlivingplus@healthteamadvantage.com
END:VEVENT
BEGIN:VEVENT
DTSTART;TZID=America/New_York:20211019T150000
DTEND;TZID=America/New_York:20211019T154500
DTSTAMP:20260421T183944
CREATED:20211002T143201Z
LAST-MODIFIED:20211108T203018Z
UID:10000810-1634655600-1634658300@dev.healthteamadvantage.com
SUMMARY:Living Plus: Your Guide to Making Better Food Decisions
DESCRIPTION:Join us every Tuesday in October with registered dietitian\, Kate Watts. Kate will lead this four-week series that provides insights on how to make meaningful changes to your food habits through mindfulness and self-awareness. This class will be delivered completely online at no cost to HealthTeam Advantage members. You must be able to access Zoom through either your computer or telephone to complete the class. \n Register Here\n 
URL:https://dev.healthteamadvantage.com/event/making-better-food-decisions/2021-10-19/
LOCATION:Virtual Event
ORGANIZER;CN="HealthTeam Advantage":MAILTO:HTAlivingplus@healthteamadvantage.com
END:VEVENT
BEGIN:VEVENT
DTSTART;TZID=America/New_York:20211026T150000
DTEND;TZID=America/New_York:20211026T154500
DTSTAMP:20260421T183944
CREATED:20211002T143201Z
LAST-MODIFIED:20211108T203018Z
UID:10000811-1635260400-1635263100@dev.healthteamadvantage.com
SUMMARY:Living Plus: Your Guide to Making Better Food Decisions
DESCRIPTION:Join us every Tuesday in October with registered dietitian\, Kate Watts. Kate will lead this four-week series that provides insights on how to make meaningful changes to your food habits through mindfulness and self-awareness. This class will be delivered completely online at no cost to HealthTeam Advantage members. You must be able to access Zoom through either your computer or telephone to complete the class. \n Register Here\n 
URL:https://dev.healthteamadvantage.com/event/making-better-food-decisions/2021-10-26/
LOCATION:Virtual Event
ORGANIZER;CN="HealthTeam Advantage":MAILTO:HTAlivingplus@healthteamadvantage.com
END:VEVENT
END:VCALENDAR