BEGIN:VCALENDAR
VERSION:2.0
PRODID:-//HealthTeam Advantage - ECPv6.15.20//NONSGML v1.0//EN
CALSCALE:GREGORIAN
METHOD:PUBLISH
X-ORIGINAL-URL:https://dev.healthteamadvantage.com
X-WR-CALDESC:Events for HealthTeam Advantage
REFRESH-INTERVAL;VALUE=DURATION:PT1H
X-Robots-Tag:noindex
X-PUBLISHED-TTL:PT1H
BEGIN:VTIMEZONE
TZID:America/New_York
BEGIN:DAYLIGHT
TZOFFSETFROM:-0500
TZOFFSETTO:-0400
TZNAME:EDT
DTSTART:20220313T070000
END:DAYLIGHT
BEGIN:STANDARD
TZOFFSETFROM:-0400
TZOFFSETTO:-0500
TZNAME:EST
DTSTART:20221106T060000
END:STANDARD
BEGIN:DAYLIGHT
TZOFFSETFROM:-0500
TZOFFSETTO:-0400
TZNAME:EDT
DTSTART:20230312T070000
END:DAYLIGHT
BEGIN:STANDARD
TZOFFSETFROM:-0400
TZOFFSETTO:-0500
TZNAME:EST
DTSTART:20231105T060000
END:STANDARD
BEGIN:DAYLIGHT
TZOFFSETFROM:-0500
TZOFFSETTO:-0400
TZNAME:EDT
DTSTART:20240310T070000
END:DAYLIGHT
BEGIN:STANDARD
TZOFFSETFROM:-0400
TZOFFSETTO:-0500
TZNAME:EST
DTSTART:20241103T060000
END:STANDARD
END:VTIMEZONE
BEGIN:VEVENT
DTSTART;TZID=America/New_York:20230311T100000
DTEND;TZID=America/New_York:20230311T100000
DTSTAMP:20260421T141706
CREATED:20230228T142857Z
LAST-MODIFIED:20230228T142857Z
UID:10001073-1678528800-1678528800@dev.healthteamadvantage.com
SUMMARY:Free Workshop: Healthcare Power of Attorney and Living Will
DESCRIPTION:Creative Aging Network–NC \n2400 Summit Ave.\, Greensboro \nMarch 11 at 10 am or Noon \nCoffee and snacks will be provided.
URL:https://dev.healthteamadvantage.com/event/free-workshop-healthcare-power-of-attorney-and-living-will/2023-03-11/1/
LOCATION:NC
END:VEVENT
BEGIN:VEVENT
DTSTART;TZID=America/New_York:20230311T120000
DTEND;TZID=America/New_York:20230311T120000
DTSTAMP:20260421T141706
CREATED:20230228T142857Z
LAST-MODIFIED:20230228T142857Z
UID:10001074-1678536000-1678536000@dev.healthteamadvantage.com
SUMMARY:Free Workshop: Healthcare Power of Attorney and Living Will
DESCRIPTION:Creative Aging Network–NC \n2400 Summit Ave.\, Greensboro \nMarch 11 at 10 am or Noon \nCoffee and snacks will be provided.
URL:https://dev.healthteamadvantage.com/event/free-workshop-healthcare-power-of-attorney-and-living-will/2023-03-11/2/
LOCATION:NC
END:VEVENT
BEGIN:VEVENT
DTSTART;TZID=America/New_York:20230313T090000
DTEND;TZID=America/New_York:20230313T090000
DTSTAMP:20260421T141706
CREATED:20230228T133629Z
LAST-MODIFIED:20230330T194739Z
UID:10001102-1678698000-1678698000@dev.healthteamadvantage.com
SUMMARY:Circuit/Interval Training
DESCRIPTION:SilverSneakers Circuit/Interval Training w/ Jona \n300 S. 2nd Ave.\, Mayodan
URL:https://dev.healthteamadvantage.com/event/circuit-interval-training/2023-03-13/
LOCATION:NC
END:VEVENT
BEGIN:VEVENT
DTSTART;TZID=America/New_York:20230313T100000
DTEND;TZID=America/New_York:20230313T100000
DTSTAMP:20260421T141706
CREATED:20230228T133804Z
LAST-MODIFIED:20230330T194811Z
UID:10001093-1678701600-1678701600@dev.healthteamadvantage.com
SUMMARY:Walking Outdoors
DESCRIPTION:SilverSneakers Walking Outdoors w/ Rhena \n102 N. Washington Ave.\, Reidsville
URL:https://dev.healthteamadvantage.com/event/walking-outdoors/2023-03-13/
LOCATION:NC
END:VEVENT
BEGIN:VEVENT
DTSTART;TZID=America/New_York:20230313T133000
DTEND;TZID=America/New_York:20230313T133000
DTSTAMP:20260421T141706
CREATED:20230228T143028Z
LAST-MODIFIED:20230228T143028Z
UID:10001071-1678714200-1678714200@dev.healthteamadvantage.com
SUMMARY:BINGO!
DESCRIPTION:Asheboro Senior Center \n347 W. Salisbury St.\, Asheboro \nMarch 13 at 1:30 pm \n  \nRCARE Reidsville Senior Center\, \n102 N. Washington Ave.\, Reidsville \nMarch 16 at 1 pm
URL:https://dev.healthteamadvantage.com/event/bingo/2023-03-13/
LOCATION:NC
END:VEVENT
BEGIN:VEVENT
DTSTART;TZID=America/New_York:20230314T090000
DTEND;TZID=America/New_York:20230314T090000
DTSTAMP:20260421T141706
CREATED:20230228T132936Z
LAST-MODIFIED:20230330T194919Z
UID:10000738-1678784400-1678784400@dev.healthteamadvantage.com
SUMMARY:Strength and Balance
DESCRIPTION:SilverSneakers Strength and Balance w/ Jona \n300 S. 2nd Ave.\, Mayodan
URL:https://dev.healthteamadvantage.com/event/strength-and-balance/2023-03-14/
LOCATION:NC
END:VEVENT
BEGIN:VEVENT
DTSTART;TZID=America/New_York:20230314T094500
DTEND;TZID=America/New_York:20230314T094500
DTSTAMP:20260421T141706
CREATED:20230228T133205Z
LAST-MODIFIED:20230330T195010Z
UID:10001128-1678787100-1678787100@dev.healthteamadvantage.com
SUMMARY:Core Conditioning
DESCRIPTION:SilverSneakers Core Conditioning w/ Karen \n300 S. 2nd Ave.\, Mayodan
URL:https://dev.healthteamadvantage.com/event/core-conditioning/2023-03-14/
LOCATION:Virtual Event
END:VEVENT
BEGIN:VEVENT
DTSTART;TZID=America/New_York:20230314T100000
DTEND;TZID=America/New_York:20230314T100000
DTSTAMP:20260421T141706
CREATED:20230228T134217Z
LAST-MODIFIED:20230501T184708Z
UID:10001080-1678788000-1678788000@dev.healthteamadvantage.com
SUMMARY:Multicultural Chair Dancing
DESCRIPTION:Multicultural Chair Dancing \nTuesdays at 10 am \nRoy B. Culler Jr. Senior Center\, 921 Eastchester Dr.\, Suite 1230\, High Point \nLearn dances from seven different cultures while seated in a chair! Registration is required; call 336-883-3584.
URL:https://dev.healthteamadvantage.com/event/multicultural-chair-dancing-2/2023-03-14/
LOCATION:NC
END:VEVENT
BEGIN:VEVENT
DTSTART;TZID=America/New_York:20230314T150000
DTEND;TZID=America/New_York:20230314T150000
DTSTAMP:20260421T141706
CREATED:20230228T143120Z
LAST-MODIFIED:20230228T143120Z
UID:10001070-1678806000-1678806000@dev.healthteamadvantage.com
SUMMARY:St. Patrick’s Day Party
DESCRIPTION:Evergreens Lifestyle Center \n1401 Benjamin Pkwy.\, Greensboro \nMarch 14 at 3 pm \nJoin us for crafts\, games\, and refreshments. Call 336-373-4816 ext. 280 to reserve your space.
URL:https://dev.healthteamadvantage.com/event/st-patricks-day-party/
LOCATION:NC
END:VEVENT
BEGIN:VEVENT
DTSTART;TZID=America/New_York:20230315T090000
DTEND;TZID=America/New_York:20230315T090000
DTSTAMP:20260421T141706
CREATED:20230228T132613Z
LAST-MODIFIED:20230330T194535Z
UID:10000675-1678870800-1678870800@dev.healthteamadvantage.com
SUMMARY:BOOM: Move It
DESCRIPTION:SilverSneakers BOOM: Move It w/ Rhena \n102 N. Washington Ave.\, Reidsville
URL:https://dev.healthteamadvantage.com/event/boom-move-it/2023-03-15/
LOCATION:NC
END:VEVENT
BEGIN:VEVENT
DTSTART;TZID=America/New_York:20230315T090000
DTEND;TZID=America/New_York:20230315T090000
DTSTAMP:20260421T141706
CREATED:20230228T133629Z
LAST-MODIFIED:20230330T194739Z
UID:10001103-1678870800-1678870800@dev.healthteamadvantage.com
SUMMARY:Circuit/Interval Training
DESCRIPTION:SilverSneakers Circuit/Interval Training w/ Jona \n300 S. 2nd Ave.\, Mayodan
URL:https://dev.healthteamadvantage.com/event/circuit-interval-training/2023-03-15/
LOCATION:NC
END:VEVENT
BEGIN:VEVENT
DTSTART;TZID=America/New_York:20230315T103000
DTEND;TZID=America/New_York:20230315T103000
DTSTAMP:20260421T141706
CREATED:20230228T132750Z
LAST-MODIFIED:20230330T194940Z
UID:10000684-1678876200-1678876200@dev.healthteamadvantage.com
SUMMARY:Cardio and Strength
DESCRIPTION:SilverSneakers Cardio and Strength w/ Jona \n300 S. 2nd Ave.\, Mayodan
URL:https://dev.healthteamadvantage.com/event/cardio-and-strength/2023-03-15/
LOCATION:NC
END:VEVENT
BEGIN:VEVENT
DTSTART;TZID=America/New_York:20230316T083000
DTEND;TZID=America/New_York:20230316T083000
DTSTAMP:20260421T141706
CREATED:20230228T143200Z
LAST-MODIFIED:20230228T143200Z
UID:10001050-1678955400-1678955400@dev.healthteamadvantage.com
SUMMARY:Elks Lodge Senior Breakfast
DESCRIPTION:2201 W. Cornwallis Dr.\, Greensboro \nMarch 16 at 8:30 am \nCall 336-288-5100 for more information.
URL:https://dev.healthteamadvantage.com/event/elks-lodge-senior-breakfast/
LOCATION:NC
END:VEVENT
BEGIN:VEVENT
DTSTART;TZID=America/New_York:20230316T090000
DTEND;TZID=America/New_York:20230316T090000
DTSTAMP:20260421T141706
CREATED:20230228T132936Z
LAST-MODIFIED:20230330T194919Z
UID:10000739-1678957200-1678957200@dev.healthteamadvantage.com
SUMMARY:Strength and Balance
DESCRIPTION:SilverSneakers Strength and Balance w/ Jona \n300 S. 2nd Ave.\, Mayodan
URL:https://dev.healthteamadvantage.com/event/strength-and-balance/2023-03-16/
LOCATION:NC
END:VEVENT
BEGIN:VEVENT
DTSTART;TZID=America/New_York:20230316T094500
DTEND;TZID=America/New_York:20230316T094500
DTSTAMP:20260421T141706
CREATED:20230228T133205Z
LAST-MODIFIED:20230330T195010Z
UID:10001129-1678959900-1678959900@dev.healthteamadvantage.com
SUMMARY:Core Conditioning
DESCRIPTION:SilverSneakers Core Conditioning w/ Karen \n300 S. 2nd Ave.\, Mayodan
URL:https://dev.healthteamadvantage.com/event/core-conditioning/2023-03-16/
LOCATION:Virtual Event
END:VEVENT
BEGIN:VEVENT
DTSTART;TZID=America/New_York:20230316T130000
DTEND;TZID=America/New_York:20230316T130000
DTSTAMP:20260421T141706
CREATED:20230228T143028Z
LAST-MODIFIED:20230228T143028Z
UID:10001072-1678971600-1678971600@dev.healthteamadvantage.com
SUMMARY:BINGO!
DESCRIPTION:Asheboro Senior Center \n347 W. Salisbury St.\, Asheboro \nMarch 13 at 1:30 pm \n  \nRCARE Reidsville Senior Center\, \n102 N. Washington Ave.\, Reidsville \nMarch 16 at 1 pm
URL:https://dev.healthteamadvantage.com/event/bingo/2023-03-16/
LOCATION:NC
END:VEVENT
BEGIN:VEVENT
DTSTART;TZID=America/New_York:20230317T090000
DTEND;TZID=America/New_York:20230317T090000
DTSTAMP:20260421T141706
CREATED:20230228T133507Z
LAST-MODIFIED:20230330T195423Z
UID:10001118-1679043600-1679043600@dev.healthteamadvantage.com
SUMMARY:Boom: Muscle
DESCRIPTION:SilverSneakers Boom: Muscle w/ Rhena \n102 N. Washington Ave.\, Reidsville
URL:https://dev.healthteamadvantage.com/event/boom-muscle-2/2023-03-17/
LOCATION:NC
END:VEVENT
BEGIN:VEVENT
DTSTART;TZID=America/New_York:20230317T120000
DTEND;TZID=America/New_York:20230317T120000
DTSTAMP:20260421T141706
CREATED:20230228T134608Z
LAST-MODIFIED:20230228T134801Z
UID:10001078-1679054400-1679054400@dev.healthteamadvantage.com
SUMMARY:Education Series: Exercise and Diabetes
DESCRIPTION:Education Series: Exercise and Diabetes w/ Savanna\, Refugee Outreach Program \nMarch 10 and 17 at noon \nSenior Resources of Guilford\, 1401 Benjamin Pkwy.\, Greensboro \nThis program\, led by our wellness coordinator\, will teach about the different types of diabetes and how to best manage them with diet and exercise. To register\, call 336-373-4816.
URL:https://dev.healthteamadvantage.com/event/education-series-exercise-and-diabetes/2023-03-17/
LOCATION:NC
END:VEVENT
BEGIN:VEVENT
DTSTART;TZID=America/New_York:20230320T090000
DTEND;TZID=America/New_York:20230320T090000
DTSTAMP:20260421T141706
CREATED:20230228T133629Z
LAST-MODIFIED:20230330T194739Z
UID:10001104-1679302800-1679302800@dev.healthteamadvantage.com
SUMMARY:Circuit/Interval Training
DESCRIPTION:SilverSneakers Circuit/Interval Training w/ Jona \n300 S. 2nd Ave.\, Mayodan
URL:https://dev.healthteamadvantage.com/event/circuit-interval-training/2023-03-20/
LOCATION:NC
END:VEVENT
BEGIN:VEVENT
DTSTART;TZID=America/New_York:20230320T100000
DTEND;TZID=America/New_York:20230320T100000
DTSTAMP:20260421T141706
CREATED:20230228T133804Z
LAST-MODIFIED:20230330T194811Z
UID:10001094-1679306400-1679306400@dev.healthteamadvantage.com
SUMMARY:Walking Outdoors
DESCRIPTION:SilverSneakers Walking Outdoors w/ Rhena \n102 N. Washington Ave.\, Reidsville
URL:https://dev.healthteamadvantage.com/event/walking-outdoors/2023-03-20/
LOCATION:NC
END:VEVENT
BEGIN:VEVENT
DTSTART;TZID=America/New_York:20230321T090000
DTEND;TZID=America/New_York:20230321T090000
DTSTAMP:20260421T141706
CREATED:20230228T132936Z
LAST-MODIFIED:20230330T194919Z
UID:10000740-1679389200-1679389200@dev.healthteamadvantage.com
SUMMARY:Strength and Balance
DESCRIPTION:SilverSneakers Strength and Balance w/ Jona \n300 S. 2nd Ave.\, Mayodan
URL:https://dev.healthteamadvantage.com/event/strength-and-balance/2023-03-21/
LOCATION:NC
END:VEVENT
BEGIN:VEVENT
DTSTART;TZID=America/New_York:20230321T094500
DTEND;TZID=America/New_York:20230321T094500
DTSTAMP:20260421T141706
CREATED:20230228T133205Z
LAST-MODIFIED:20230330T195010Z
UID:10001130-1679391900-1679391900@dev.healthteamadvantage.com
SUMMARY:Core Conditioning
DESCRIPTION:SilverSneakers Core Conditioning w/ Karen \n300 S. 2nd Ave.\, Mayodan
URL:https://dev.healthteamadvantage.com/event/core-conditioning/2023-03-21/
LOCATION:Virtual Event
END:VEVENT
BEGIN:VEVENT
DTSTART;TZID=America/New_York:20230321T100000
DTEND;TZID=America/New_York:20230321T100000
DTSTAMP:20260421T141706
CREATED:20230228T134217Z
LAST-MODIFIED:20230501T184708Z
UID:10001081-1679392800-1679392800@dev.healthteamadvantage.com
SUMMARY:Multicultural Chair Dancing
DESCRIPTION:Multicultural Chair Dancing \nTuesdays at 10 am \nRoy B. Culler Jr. Senior Center\, 921 Eastchester Dr.\, Suite 1230\, High Point \nLearn dances from seven different cultures while seated in a chair! Registration is required; call 336-883-3584.
URL:https://dev.healthteamadvantage.com/event/multicultural-chair-dancing-2/2023-03-21/
LOCATION:NC
END:VEVENT
BEGIN:VEVENT
DTSTART;TZID=America/New_York:20230321T110000
DTEND;TZID=America/New_York:20230321T110000
DTSTAMP:20260421T141706
CREATED:20230228T135049Z
LAST-MODIFIED:20230228T135049Z
UID:10001076-1679396400-1679396400@dev.healthteamadvantage.com
SUMMARY:Education Series: Creating an Exercise Program
DESCRIPTION:Education Series: Creating an Exercise Program w/Savanna \nMarch 21 at 11 am \nRoy B. Culler Jr. Senior Center\, 921 Eastchester Dr.\, Suite 1230\, High Point \nLearn how to create your own exercise program in this class led by our wellness coordinator.
URL:https://dev.healthteamadvantage.com/event/education-series-creating-an-exercise-program/
LOCATION:NC
END:VEVENT
BEGIN:VEVENT
DTSTART;TZID=America/New_York:20230321T133000
DTEND;TZID=America/New_York:20230321T153000
DTSTAMP:20260421T141706
CREATED:20220510T201039Z
LAST-MODIFIED:20220510T201039Z
UID:10000832-1679405400-1679412600@dev.healthteamadvantage.com
SUMMARY:A Moment in Time Memory Café
DESCRIPTION:Jamestown United Methodist Church 403 E Main St\, Jamestown\, NC 27282 \nEvery third Tuesday from 1:30-3:30 pm \nA group for people with dementia and their caregivers to come relax\, play games\, sing\, enjoy snacks\, and chat in a friendly atmosphere. To register or for more info: contact lauragulledge@gmail.com or 336-906-0430.
URL:https://dev.healthteamadvantage.com/event/a-moment-in-time-memory-cafe/2023-03-21/
LOCATION:NC
END:VEVENT
BEGIN:VEVENT
DTSTART;VALUE=DATE:20230322
DTEND;VALUE=DATE:20230323
DTSTAMP:20260421T141706
CREATED:20230228T135332Z
LAST-MODIFIED:20230228T135406Z
UID:10001075-1679443200-1679529599@dev.healthteamadvantage.com
SUMMARY:Cooking Demo and Exercise Tips
DESCRIPTION:New video coming to YouTube & Facebook on March 22 \nOur latest video will feature a new high-fiber chili recipe from Chef Rocky and Jennifer\, our registered dietitian. Plus our wellness coordinator\, Savanna\, will stop by with some exercise tips! \n Subscribe to our YouTube
URL:https://dev.healthteamadvantage.com/event/cooking-demo-and-exercise-tips/
LOCATION:Virtual Event
END:VEVENT
BEGIN:VEVENT
DTSTART;TZID=America/New_York:20230322T090000
DTEND;TZID=America/New_York:20230322T090000
DTSTAMP:20260421T141706
CREATED:20230228T132613Z
LAST-MODIFIED:20230330T194535Z
UID:10000676-1679475600-1679475600@dev.healthteamadvantage.com
SUMMARY:BOOM: Move It
DESCRIPTION:SilverSneakers BOOM: Move It w/ Rhena \n102 N. Washington Ave.\, Reidsville
URL:https://dev.healthteamadvantage.com/event/boom-move-it/2023-03-22/
LOCATION:NC
END:VEVENT
BEGIN:VEVENT
DTSTART;TZID=America/New_York:20230322T090000
DTEND;TZID=America/New_York:20230322T090000
DTSTAMP:20260421T141706
CREATED:20230228T133629Z
LAST-MODIFIED:20230330T194739Z
UID:10001105-1679475600-1679475600@dev.healthteamadvantage.com
SUMMARY:Circuit/Interval Training
DESCRIPTION:SilverSneakers Circuit/Interval Training w/ Jona \n300 S. 2nd Ave.\, Mayodan
URL:https://dev.healthteamadvantage.com/event/circuit-interval-training/2023-03-22/
LOCATION:NC
END:VEVENT
BEGIN:VEVENT
DTSTART;TZID=America/New_York:20230322T103000
DTEND;TZID=America/New_York:20230322T103000
DTSTAMP:20260421T141706
CREATED:20230228T132750Z
LAST-MODIFIED:20230330T194940Z
UID:10000685-1679481000-1679481000@dev.healthteamadvantage.com
SUMMARY:Cardio and Strength
DESCRIPTION:SilverSneakers Cardio and Strength w/ Jona \n300 S. 2nd Ave.\, Mayodan
URL:https://dev.healthteamadvantage.com/event/cardio-and-strength/2023-03-22/
LOCATION:NC
END:VEVENT
BEGIN:VEVENT
DTSTART;TZID=America/New_York:20230323T090000
DTEND;TZID=America/New_York:20230323T090000
DTSTAMP:20260421T141706
CREATED:20230228T132936Z
LAST-MODIFIED:20230330T194919Z
UID:10000741-1679562000-1679562000@dev.healthteamadvantage.com
SUMMARY:Strength and Balance
DESCRIPTION:SilverSneakers Strength and Balance w/ Jona \n300 S. 2nd Ave.\, Mayodan
URL:https://dev.healthteamadvantage.com/event/strength-and-balance/2023-03-23/
LOCATION:NC
END:VEVENT
END:VCALENDAR